BEGIN:VCALENDAR
VERSION:2.0
PRODID:-//ChamberMaster//Event Calendar 2.0//EN
METHOD:PUBLISH
X-PUBLISHED-TTL:P3D
REFRESH-INTERVAL:P3D
CALSCALE:GREGORIAN
BEGIN:VEVENT
DTSTART:20180912T210000Z
DTEND:20180913T000000Z
X-MICROSOFT-CDO-ALLDAYEVENT:FALSE
SUMMARY:United Way of Greater McHenry County Campaign Cocktail Launch
DESCRIPTION:United Way of Greater McHenry County is hosting a Campaign Cocktail Launch! Get inspired to help United Way build a stronger McHenry County! Join us for live music\, distillery tours\, tastings and a grazing table!
X-ALT-DESC;FMTTYPE=text/html:United Way of Greater McHenry County is hosting a Campaign Cocktail Launch! Get inspired to help United Way build a stronger McHenry County! Join us for live music\, distillery tours\, tastings and a grazing table!
LOCATION:Rush Creek Distillery 1501 West Higgins Street Harvard\,IL 60033
UID:e.2066.1189
SEQUENCE:3
DTSTAMP:20260425T192144Z
URL:https://dev.chainolakeschamber.com/events/details/united-way-of-greater-mchenry-county-campaign-cocktail-launch-1189
END:VEVENT

END:VCALENDAR
