BEGIN:VCALENDAR
VERSION:2.0
PRODID:-//ChamberMaster//Event Calendar 2.0//EN
METHOD:PUBLISH
X-PUBLISHED-TTL:P3D
REFRESH-INTERVAL:P3D
CALSCALE:GREGORIAN
BEGIN:VEVENT
DTSTART:20221117T160000Z
DTEND:20221117T170000Z
X-MICROSOFT-CDO-ALLDAYEVENT:FALSE
SUMMARY:Understanding Medicare Supplement Insurance Plans
DESCRIPTION:Medicare Advantage Plans are different from Medicare Supplement Plans. Learn about eligibility\, enrollment\, and benefits of Original Medicare (Parts A & B) and the standardized Medicare Supplement Insurance Plans (also known as Medigap) available in Illinois. This seminar can be beneficial for people who will soon be eligible for Medicare\, those already on Medicare but losing group retiree benefits\, and caregivers of Medicare beneficiaries.
X-ALT-DESC;FMTTYPE=text/html:<span style="font-family:arial narrow\,sans-serif"><span style="font-size:16.0pt">Medicare Advantage Plans are different from Medicare Supplement Plans. Learn about eligibility\, enrollment\, and benefits of Original Medicare (Parts A &amp\; B) and the standardized Medicare Supplement Insurance Plans (also known as Medigap) available in Illinois. This seminar can be beneficial for people who will soon be eligible for Medicare\, those already on Medicare but losing group retiree benefits\, and caregivers of Medicare beneficiaries.</span></span>
LOCATION:Zoom
UID:e.2066.4650
SEQUENCE:3
DTSTAMP:20260422T092819Z
URL:https://dev.chainolakeschamber.com/events/details/understanding-medicare-supplement-insurance-plans-4650
END:VEVENT

END:VCALENDAR
