BEGIN:VCALENDAR
VERSION:2.0
PRODID:-//ChamberMaster//Event Calendar 2.0//EN
METHOD:PUBLISH
X-PUBLISHED-TTL:P3D
REFRESH-INTERVAL:P3D
CALSCALE:GREGORIAN
BEGIN:VEVENT
DTSTART:20220914T233000Z
DTEND:20220915T003000Z
X-MICROSOFT-CDO-ALLDAYEVENT:FALSE
SUMMARY:Understanding Medicare- Medicare 101
DESCRIPTION:Presented by Robin Dawson\, Independent Broker\, Licensed Agent Medicare Solutions Network\n\n\n\nMedicare Solutions Network will present a free educational seminar to get you up to speed on what Medicare covers\, what it doesn't\, and your potential out of pocket exposure.  We'll discuss Supplements\, Medicare Advantage Plans\, Part D Prescription Plans\, and cost saving strategies for the years ahead
X-ALT-DESC;FMTTYPE=text/html:<em><span style="color:#104864"><span style="font-family:arial narrow\,sans-serif"><span style="font-size:18.0pt">Presented by </span></span></span></em><strong><span style="color:#104864"><span style="font-family:arial narrow\,sans-serif"><span style="font-size:18.0pt">Robin Dawson\, Independent Broker\, Licensed Agent&nbsp\;Medicare Solutions Network</span></span></span></strong><br />\n<br />\n<span style="color:#104864"><span style="font-family:arial narrow\,sans-serif"><span style="font-size:18.0pt">Medicare Solutions Network will present a free educational seminar to get you up to speed on what Medicare covers\, what it doesn&rsquo\;t\, and your potential out of pocket exposure.&nbsp\; We&rsquo\;ll discuss Supplements\, Medicare Advantage Plans\, Part D Prescription Plans\, and cost saving strategies for the years ahead</span></span></span><br />\n&nbsp\;
LOCATION:Zoom
UID:e.2066.4563
SEQUENCE:3
DTSTAMP:20260422T121253Z
URL:https://dev.chainolakeschamber.com/events/details/understanding-medicare-medicare-101-4563
END:VEVENT

END:VCALENDAR
