BEGIN:VCALENDAR
VERSION:2.0
PRODID:-//ChamberMaster//Event Calendar 2.0//EN
METHOD:PUBLISH
X-PUBLISHED-TTL:P3D
REFRESH-INTERVAL:P3D
CALSCALE:GREGORIAN
BEGIN:VEVENT
DTSTART:20200213T000000Z
DTEND:20200213T013000Z
X-MICROSOFT-CDO-ALLDAYEVENT:FALSE
SUMMARY:Understanding Basic Financial Statements
DESCRIPTION:If you can read a nutrition label or baseball box score\, you can learn to read basic financial statements. You do not need to be an accountant. Financial statements provide insight into the financial position and health of a company\, all things that you need to understand to run your business. This workshop will walk you through the three basic financial statements: Balance Sheet\, Income Statement and Statement of Cash Flows. You will learn how to use these statements to perform financial analysis and give you a solid understanding of how to make smart\, strategic business decisions.
X-ALT-DESC;FMTTYPE=text/html:If you can read a nutrition label or baseball box score\, you can learn to read basic financial statements. You do not need to be an accountant. Financial statements provide insight into the financial position and health of a company\, all things that you need to understand to run your business. This workshop will walk you through the three basic financial statements: Balance Sheet\, Income Statement and Statement of Cash Flows. You will learn how to use these statements to perform financial analysis and give you a solid understanding of how to make smart\, strategic business decisions.
LOCATION:College of Lake County Grayslake Campus 19351 W Washington St. Grayslake\, IL 60030
UID:e.2066.3160
SEQUENCE:3
DTSTAMP:20260424T154612Z
URL:https://dev.chainolakeschamber.com/events/details/understanding-basic-financial-statements-3160
END:VEVENT

END:VCALENDAR
