BEGIN:VCALENDAR
VERSION:2.0
PRODID:-//ChamberMaster//Event Calendar 2.0//EN
METHOD:PUBLISH
X-PUBLISHED-TTL:P3D
REFRESH-INTERVAL:P3D
CALSCALE:GREGORIAN
BEGIN:VEVENT
DTSTART:20210721T220000Z
DTEND:20210722T000000Z
X-MICROSOFT-CDO-ALLDAYEVENT:FALSE
SUMMARY:Unconscious Bias
DESCRIPTION:This workshop will introduce you to the ideas and techniques for defining and understanding different unconscious biases. Learn how biases affect the culture and practices of a company and gain tips for training your organization.
X-ALT-DESC;FMTTYPE=text/html:This workshop will introduce you to the ideas and techniques for defining and understanding different unconscious biases. Learn how biases affect the culture and practices of a company and gain tips for training your organization.
LOCATION:Live Zoom
UID:e.2066.4076
SEQUENCE:3
DTSTAMP:20260423T111738Z
URL:https://dev.chainolakeschamber.com/events/details/unconscious-bias-4076
END:VEVENT

END:VCALENDAR
