BEGIN:VCALENDAR
VERSION:2.0
PRODID:-//ChamberMaster//Event Calendar 2.0//EN
METHOD:PUBLISH
X-PUBLISHED-TTL:P3D
REFRESH-INTERVAL:P3D
CALSCALE:GREGORIAN
BEGIN:VEVENT
DTSTART;VALUE=DATE:20210729
DTEND;VALUE=DATE:20210801
TRANSP:TRANSPARENT
X-MICROSOFT-CDO-ALLDAYEVENT:TRUE
SUMMARY:Uncle Phil's Diner- Dinner Theater
DESCRIPTION:Tickets are selling out FAST for all 4 shows.  If you are planning on attending\, we would encourage you to register soon for one of the four shows. Registration closes on July 28.  Because of table set up and ordering of food\,  we cannot accommodate walk-ins.  You must register in advance.
X-ALT-DESC;FMTTYPE=text/html:<span style="color:rgb(32\, 32\, 32)\; font-family:helvetica\; font-size:16px">Tickets are selling out FAST for all 4 shows.&nbsp\; If you are planning on attending\, we would encourage you to register soon for&nbsp\;one of the four shows.&nbsp\;</span><span style="font-size:14px"><strong><span style="color:rgb(0\, 0\, 205)">Registration closes on July 28.&nbsp\; Because of table set up and ordering of food\,&nbsp\; we cannot accommodate walk-ins.&nbsp\; You must register in advance.</span></strong></span>
LOCATION:River Ridge Church 7664 Wilmot Road Spring Grove\, IL 60081
UID:e.2066.4108
SEQUENCE:3
DTSTAMP:20260423T112013Z
URL:https://dev.chainolakeschamber.com/events/details/uncle-phil-s-diner-dinner-theater-4108
END:VEVENT

END:VCALENDAR
