BEGIN:VCALENDAR
VERSION:2.0
PRODID:-//ChamberMaster//Event Calendar 2.0//EN
METHOD:PUBLISH
X-PUBLISHED-TTL:P3D
REFRESH-INTERVAL:P3D
CALSCALE:GREGORIAN
BEGIN:VEVENT
DTSTART:20230816T193000Z
DTEND:20230816T213000Z
X-MICROSOFT-CDO-ALLDAYEVENT:FALSE
SUMMARY:Unclaimed Property Day with Sen Wilcox and Rep Weber
DESCRIPTION:Join State Rep Tom Weber and Senator Craig Wilcox for an Unclaimed Property Day with the Illinois State Treasurer's Office on August 16. The Treasurer's office has $3.5 billion in unclaimed property owed to Illinois residents. The state could be holding inheritance money or funds from a forgotten bank account that belongs to you. Stop by to see if you are owed money and to receive help filing a claim.\n\n  at Fox Lake District Library.
X-ALT-DESC;FMTTYPE=text/html:<div class="xyinxu5 x4uap5 x1g2khh7 xkhd6sd" style="padding: 14px 0px\; font-family: &quot\;Segoe UI Historic&quot\;\, &quot\;Segoe UI&quot\;\, Helvetica\, Arial\, sans-serif\; color: rgb(28\, 30\, 33)\; font-size: 12px\;"><span class="x193iq5w xeuugli x13faqbe x1vvkbs x1xmvt09 x1lliihq x1s928wv xhkezso x1gmr53x x1cpjm7i x1fgarty x1943h6x xudqn12 x3x7a5m x6prxxf xvq8zen xo1l8bm xzsf02u" dir="auto" style="word-break: break-word\; max-width: 100%\; display: block\; overflow-wrap: break-word\; font-family: inherit\; font-size: 0.9375rem\; min-width: 0px\; line-height: 1.3333\; color: var(--primary-text)\;">Join <strong>State Rep Tom Weber</strong>&nbsp\;and&nbsp\;<span style="font-family: inherit\;"><a class="x1i10hfl xjbqb8w x6umtig x1b1mbwd xaqea5y xav7gou x9f619 x1ypdohk xt0psk2 xe8uvvx xdj266r x11i5rnm xat24cr x1mh8g0r xexx8yu x4uap5 x18d9i69 xkhd6sd x16tdsg8 x1hl2dhg xggy1nq x1a2a7pz xt0b8zv xzsf02u x1s688f" href="https://www.facebook.com/senatorwilcox?__cft__[0]=AZWhp2liCS0KXRuu6CPFZpF7QPuEARAKJGX4AW4zEAghkS86m11_p0sGFSPRBEw2EnqHRS4iPIddbBX7r1EBO6OA1YLZR6gm1WP1fOEpQimnCCyMmVtY1B_0blYrE0dkyUTg79KbgPmsFs_zs_hTXfKoRRE8FcWITavaT1wYbBQHxG2qkaqMEC6un5VSFNEmslE&amp\;__tn__=-]K*F" role="link" style="color: var(--primary-text)\; cursor: pointer\; text-decoration-line: none\; border-width: 0px\; border-style: initial\; border-color: initial\; outline: none\; list-style: none\; margin: 0px\; text-align: inherit\; padding: 0px\; -webkit-tap-highlight-color: transparent\; font-weight: 600\; box-sizing: border-box\; touch-action: manipulation\; background-color: transparent\; display: inline\; font-family: inherit\;" tabindex="0"><span class="xt0psk2" style="display: inline\; font-family: inherit\;">Senator Craig Wilcox</span></a></span>&nbsp\;for an Unclaimed Property Day with the Illinois State Treasurer&rsquo\;s Office on August 16. The Treasurer&rsquo\;s office has $3.5 billion in unclaimed property owed to Illinois residents. The state could be holding inheritance money or funds from a forgotten bank account that belongs to you. Stop by to see if you are owed money and to receive help filing a claim.</span></div>\n\n<div class="x1g2khh7" style="padding-bottom: 14px\; font-family: &quot\;Segoe UI Historic&quot\;\, &quot\;Segoe UI&quot\;\, Helvetica\, Arial\, sans-serif\; color: rgb(28\, 30\, 33)\; font-size: 12px\;"><span class="x193iq5w xeuugli x13faqbe x1vvkbs x1xmvt09 x1lliihq x1s928wv xhkezso x1gmr53x x1cpjm7i x1fgarty x1943h6x xudqn12 x3x7a5m x6prxxf xvq8zen xo1l8bm xzsf02u" dir="auto" style="word-break: break-word\; max-width: 100%\; display: block\; overflow-wrap: break-word\; font-family: inherit\; font-size: 0.9375rem\; min-width: 0px\; line-height: 1.3333\; color: var(--primary-text)\;"><span style="font-family: inherit\;">&mdash\;&nbsp\;</span>at&nbsp\;<span style="font-weight: 600\;"><span style="font-family: inherit\;"><a class="x1i10hfl xjbqb8w x6umtig x1b1mbwd xaqea5y xav7gou x9f619 x1ypdohk xt0psk2 xe8uvvx xdj266r x11i5rnm xat24cr x1mh8g0r xexx8yu x4uap5 x18d9i69 xkhd6sd x16tdsg8 x1hl2dhg xggy1nq x1a2a7pz xt0b8zv xzsf02u x1s688f" href="https://www.facebook.com/FoxLakeDistrictLibrary?__cft__[0]=AZWhp2liCS0KXRuu6CPFZpF7QPuEARAKJGX4AW4zEAghkS86m11_p0sGFSPRBEw2EnqHRS4iPIddbBX7r1EBO6OA1YLZR6gm1WP1fOEpQimnCCyMmVtY1B_0blYrE0dkyUTg79KbgPmsFs_zs_hTXfKoRRE8FcWITavaT1wYbBQHxG2qkaqMEC6un5VSFNEmslE&amp\;__tn__=-]C*F" role="link" style="color: var(--primary-text)\; cursor: pointer\; text-decoration-line: none\; border-width: 0px\; border-style: initial\; border-color: initial\; outline: none\; list-style: none\; margin: 0px\; text-align: inherit\; padding: 0px\; -webkit-tap-highlight-color: transparent\; box-sizing: border-box\; touch-action: manipulation\; background-color: transparent\; display: inline\; font-family: inherit\;" tabindex="0"><span class="xt0psk2" style="display: inline\; font-family: inherit\;">Fox Lake District Library</span></a></span></span>.</span></div>\n
LOCATION:Fox Lake Library 255 E. Grand Avenue Fox Lake IL
UID:e.2066.5390
SEQUENCE:3
DTSTAMP:20260419T121452Z
URL:https://dev.chainolakeschamber.com/events/details/unclaimed-property-day-with-sen-wilcox-and-rep-weber-5390
END:VEVENT

END:VCALENDAR
