BEGIN:VCALENDAR
VERSION:2.0
PRODID:-//ChamberMaster//Event Calendar 2.0//EN
METHOD:PUBLISH
X-PUBLISHED-TTL:P3D
REFRESH-INTERVAL:P3D
CALSCALE:GREGORIAN
BEGIN:VEVENT
DTSTART:20221029T190000Z
DTEND:20221029T210000Z
X-MICROSOFT-CDO-ALLDAYEVENT:FALSE
SUMMARY:Trunk or Treat - Village of Spring Grove
DESCRIPTION:Trunk or Treat hosted by the Village of Spring Grove Community Engagement Committee.\n\n\n\nCostume Contest at 3PM\n\n\n\nRegister your car\, truck\, table at info@springgrovevillage.com by 10/27
X-ALT-DESC;FMTTYPE=text/html:Trunk or Treat hosted by the Village of Spring Grove Community Engagement Committee.<br />\n<br />\nCostume Contest at 3PM<br />\n<br />\nRegister your car\, truck\, table at info@springgrovevillage.com by 10/27
LOCATION:Horse Fair Park 8105 Blivin Street (additional parking at Spring Grove Park - 2102 Main St)
UID:e.2066.4863
SEQUENCE:3
DTSTAMP:20260422T111835Z
URL:https://dev.chainolakeschamber.com/events/details/trunk-or-treat-village-of-spring-grove-4863
END:VEVENT

END:VCALENDAR
