BEGIN:VCALENDAR
VERSION:2.0
PRODID:-//ChamberMaster//Event Calendar 2.0//EN
METHOD:PUBLISH
X-PUBLISHED-TTL:P3D
REFRESH-INTERVAL:P3D
CALSCALE:GREGORIAN
BEGIN:VEVENT
DTSTART:20221029T150000Z
DTEND:20221029T170000Z
X-MICROSOFT-CDO-ALLDAYEVENT:FALSE
SUMMARY:Trunk or Treat at Ray Chevrolet and Ray Auto Group
DESCRIPTION:Vote for the best decorated ride!\n\n\n\nBring the kids out for some family fun!
X-ALT-DESC;FMTTYPE=text/html:Vote for the best decorated ride!<br />\n<br />\nBring the kids out for some family fun!
LOCATION:Ray Chevrolet and Ray Auto Group 23 US-12 Fox Lake\, IL 60020
UID:e.2066.4859
SEQUENCE:3
DTSTAMP:20260422T111705Z
URL:https://dev.chainolakeschamber.com/events/details/trunk-or-treat-at-ray-chevrolet-and-ray-auto-group-4859
END:VEVENT

END:VCALENDAR
