BEGIN:VCALENDAR
VERSION:2.0
PRODID:-//ChamberMaster//Event Calendar 2.0//EN
METHOD:PUBLISH
X-PUBLISHED-TTL:P3D
REFRESH-INTERVAL:P3D
CALSCALE:GREGORIAN
BEGIN:VEVENT
DTSTART:20211030T180000Z
DTEND:20211030T200000Z
X-MICROSOFT-CDO-ALLDAYEVENT:FALSE
SUMMARY:Trunk or Treat
DESCRIPTION:Trunkers Needed\n\nResidents and Businesses are invited to \n\ndecorate your car\, trunk or a table and have \n\nfun passing out candy! (No homemade treats)  Please register your car\, truck or table by emailing srusher@springgrovevillage.com by October 28
X-ALT-DESC;FMTTYPE=text/html:<span class="markedContent" id="page55R_mcid22"><span dir="ltr" role="presentation" style="left: 366.8px\; top: 714.035px\; font-size: 36.6px\; font-family: sans-serif\; transform: scaleX(0.968337)\;">Trunkers Needed</span></span><br />\n<span class="markedContent" id="page55R_mcid24"><span dir="ltr" role="presentation" style="left: 225.2px\; top: 757.862px\; font-size: 33.4px\; font-family: sans-serif\; transform: scaleX(0.939326)\;">Residents and Businesses are invited to </span><br role="presentation" />\n<span dir="ltr" role="presentation" style="left: 193.403px\; top: 798.276px\; font-size: 33.4px\; font-family: sans-serif\; transform: scaleX(0.956159)\;">decorate your car\, trunk or a table and have </span><br role="presentation" />\n<span dir="ltr" role="presentation" style="left: 182.214px\; top: 838.69px\; font-size: 33.4px\; font-family: sans-serif\; transform: scaleX(0.938323)\;">fun passing out candy! </span><span dir="ltr" role="presentation" style="left: 504.4px\; top: 838.662px\; font-size: 33.4px\; font-family: sans-serif\; transform: scaleX(0.955176)\;">(No homemade treats)</span><span dir="ltr" role="presentation" style="left: 823.6px\; top: 838.662px\; font-size: 33.4px\; font-family: sans-serif\;"> </span></span><span class="markedContent" id="page55R_mcid26"><span dir="ltr" role="presentation" style="left: 503px\; top: 876.228px\; font-size: 20px\; font-family: sans-serif\;"> </span></span><span class="markedContent" id="page55R_mcid28"><span dir="ltr" role="presentation" style="left: 217.4px\; top: 902.021px\; font-size: 26.6px\; font-family: sans-serif\; transform: scaleX(0.966578)\;">Please register your car\, truck or table by emailing </span></span><span class="markedContent" id="page55R_mcid30"><span dir="ltr" role="presentation" style="left: 231.604px\; top: 934.42px\; font-size: 26.6px\; font-family: sans-serif\; transform: scaleX(0.963698)\;">srusher@springgrovevillage.com by October 28 </span></span>
LOCATION:Horse Fair Park 8105 Blivin St Spring Grove IL
UID:e.2066.4117
SEQUENCE:3
DTSTAMP:20260423T065318Z
URL:https://dev.chainolakeschamber.com/events/details/trunk-or-treat-4117
END:VEVENT

END:VCALENDAR
