BEGIN:VCALENDAR
VERSION:2.0
PRODID:-//ChamberMaster//Event Calendar 2.0//EN
METHOD:PUBLISH
X-PUBLISHED-TTL:P3D
REFRESH-INTERVAL:P3D
CALSCALE:GREGORIAN
BEGIN:VEVENT
DTSTART:20181031T203000Z
DTEND:20181031T223000Z
X-MICROSOFT-CDO-ALLDAYEVENT:FALSE
SUMMARY:Trunk or Treat
DESCRIPTION:FREE to all children\n\n\n\nFREE to all business owners to set up a table\n\n\n\nFREE to residents to set up on the drive way
X-ALT-DESC;FMTTYPE=text/html:<br />\n<br />\n<br />\nFREE to all children<br />\n<br />\nFREE to all business owners to set up a table<br />\n<br />\nFREE to residents to set up on the drive way
LOCATION:Horse Fair Park 8105 Blivn St Spring Grove IL
UID:e.2066.1678
SEQUENCE:3
DTSTAMP:20260425T164904Z
URL:https://dev.chainolakeschamber.com/events/details/trunk-or-treat-1678
END:VEVENT

END:VCALENDAR
