BEGIN:VCALENDAR
VERSION:2.0
PRODID:-//ChamberMaster//Event Calendar 2.0//EN
METHOD:PUBLISH
X-PUBLISHED-TTL:P3D
REFRESH-INTERVAL:P3D
CALSCALE:GREGORIAN
BEGIN:VEVENT
DTSTART:20190907T210000Z
DTEND:20190908T040000Z
X-MICROSOFT-CDO-ALLDAYEVENT:FALSE
SUMMARY:Truck Off
DESCRIPTION:Truck Off is the premiere food truck festival in the NW Burbs with 30+ options and more! Free entry\, family and pet-friendly.
X-ALT-DESC;FMTTYPE=text/html:<a href="https://www.facebook.com/Truckoff/" style="color: rgb(56\, 88\, 152)\; cursor: pointer\; font-family: inherit\; font-size: 14px\; font-style: normal\; font-variant: normal\; font-weight: 400\; letter-spacing: normal\; orphans: 2\; text-align: left\; text-decoration: none\; text-indent: 0px\; text-transform: none\; -webkit-text-stroke-width: 0px\; white-space: pre-wrap\; word-spacing: 0px\;" target="_blank">Truck Off</a><span style="display: inline !important\; float: none\; background-color: rgb(255\, 255\, 255)\; color: rgb(29\, 33\, 41)\; font-family: inherit\; font-size: 14px\; font-style: normal\; font-variant: normal\; font-weight: 400\; letter-spacing: normal\; orphans: 2\; text-align: left\; text-decoration: none\; text-indent: 0px\; text-transform: none\; -webkit-text-stroke-width: 0px\; white-space: pre-wrap\; word-spacing: 0px\;"> is the premiere food truck festival in the NW Burbs with 30+ options and more! Free entry\, family and pet-friendly.</span>
LOCATION:12015 Country Club Rd\, Woodstock\, IL
UID:e.2066.3126
SEQUENCE:3
DTSTAMP:20260424T233219Z
URL:https://dev.chainolakeschamber.com/events/details/truck-off-3126
END:VEVENT

END:VCALENDAR
