BEGIN:VCALENDAR
VERSION:2.0
PRODID:-//ChamberMaster//Event Calendar 2.0//EN
METHOD:PUBLISH
X-PUBLISHED-TTL:P3D
REFRESH-INTERVAL:P3D
CALSCALE:GREGORIAN
BEGIN:VEVENT
DTSTART:20230318T000000Z
DTEND:20230318T013000Z
X-MICROSOFT-CDO-ALLDAYEVENT:FALSE
SUMMARY:Trees of the Field Concert - LifeSpring Comm Church
DESCRIPTION:TREES OF THE FIELD CONCERT\n\nTREES OF THE FIELD  is an original Christian rock band sharing God's word and what He has done in our lives through classic rock-inspired original music. TREES OF THE FIELD will be performing a concert at LifeSpring Community Church\, Friday March 17\, 7-8:30 pm. Funds raised this evening will go toward the LifeSpring Prayer Path project. If you like the rock music of the 70-80s and long for God's love\, you'll enjoy this night! Everyone is invited!
X-ALT-DESC;FMTTYPE=text/html:<blockquote style="color: rgb(34\, 34\, 34)\; font-family: Arial\, Helvetica\, sans-serif\; font-size: small\; background-color: rgb(255\, 255\, 255)\;" type="cite">\n<div dir="ltr">\n<div dir="ltr">\n<div class="gmail_quote">\n<div dir="ltr">\n<div style="font-family: &quot\;trebuchet ms&quot\;\, sans-serif\;"><strong><span style="font-size: 10pt\; font-family: Lato\, sans-serif\; color: rgb(51\, 51\, 51)\;">TREES OF THE FIELD CONCERT</span></strong><br />\n<strong><span style="font-size: 9pt\; font-family: Lato\, sans-serif\; color: rgb(51\, 51\, 51)\;">TREES OF THE FIELD&nbsp\;</span></strong><span style="font-size: 9pt\; font-family: Lato\, sans-serif\; color: rgb(51\, 51\, 51)\;">&nbsp\;is an original Christian rock band sharing God&rsquo\;s word and what He has done in our lives through classic rock-inspired original music.&nbsp\;<b>TREES OF THE FIELD&nbsp\;</b>will be performing a concert at LifeSpring Community Church\, Friday March 17\, 7-8:30 pm. Funds raised this evening will go toward the&nbsp\;<strong>LifeSpring Prayer Path</strong>&nbsp\;project. If you like the rock music of the 70-80s and long for God&rsquo\;s love\, you&rsquo\;ll enjoy this night! Everyone is invited!</span><br />\n&nbsp\;</div>\n</div>\n</div>\n</div>\n</div>\n</blockquote>\n
LOCATION:LifeSpring Community Church 1154 Route 173 Spring Grove IL
UID:e.2066.5005
SEQUENCE:3
DTSTAMP:20260419T204017Z
URL:https://dev.chainolakeschamber.com/events/details/trees-of-the-field-concert-lifespring-comm-church-5005
END:VEVENT

END:VCALENDAR
