BEGIN:VCALENDAR
VERSION:2.0
PRODID:-//ChamberMaster//Event Calendar 2.0//EN
METHOD:PUBLISH
X-PUBLISHED-TTL:P3D
REFRESH-INTERVAL:P3D
CALSCALE:GREGORIAN
BEGIN:VEVENT
DTSTART:20180615T230000Z
DTEND:20180616T030000Z
X-MICROSOFT-CDO-ALLDAYEVENT:FALSE
SUMMARY:TownSquare Player’s Production of Vanya and Sonia and Masha and Spike
DESCRIPTION:The Mixer will be held As part of Opening Night\, at the Woodstock Opera House on June 15th\, at 6pm. It is a pre show mixer for TownSquare Player's Production of Vanya and Sonia and Masha and Spike.  There will also be a post show reception. Chamber Members are invited and encouraged to attend both. Chamber members will have the opportunity to meet the show's talented cast during the Opening Night Reception.\n\nWe have arranged special discounted ticket pricing for members of the Chamber of Commerce.  Please provide Chamber Members the discount Promo Code: mixandmingle.\n\nThey should use this code when ordering tickets at www.woodstockoperahouse.com that seats are limited\,\n\n\n\n \n\nThank you for supporting the Arts and TownSquare Players.
X-ALT-DESC;FMTTYPE=text/html:The Mixer will be held As part of Opening Night\, at the Woodstock Opera House on June 15th\, at 6pm. It is a pre show mixer for TownSquare Player&rsquo\;s Production of Vanya and Sonia and Masha and Spike.&nbsp\; There will also be a post show reception. Chamber Members are invited and encouraged to attend both. Chamber members will have the opportunity to meet the show&rsquo\;s talented cast during the Opening Night Reception.<br />\nWe have arranged special discounted ticket pricing for members of the Chamber of Commerce.&nbsp\; Please provide Chamber Members the discount Promo Code: mixandmingle.<br />\nThey should use this code when ordering tickets at <a href="http://www.woodstockoperahouse.com">www.woodstockoperahouse.com</a> that seats are limited\,<br />\n<br />\n&nbsp\;<br />\nThank you for supporting the Arts and TownSquare Players.<br />\n&nbsp\;
LOCATION:Woodstock Opera House
UID:e.2066.1109
SEQUENCE:3
DTSTAMP:20260425T222307Z
URL:https://dev.chainolakeschamber.com/events/details/townsquare-player-s-production-of-vanya-and-sonia-and-masha-and-spike-1109
END:VEVENT

END:VCALENDAR
