BEGIN:VCALENDAR
VERSION:2.0
PRODID:-//ChamberMaster//Event Calendar 2.0//EN
METHOD:PUBLISH
X-PUBLISHED-TTL:P3D
REFRESH-INTERVAL:P3D
CALSCALE:GREGORIAN
BEGIN:VEVENT
DTSTART:20230920T194000Z
DTEND:20230920T205500Z
X-MICROSOFT-CDO-ALLDAYEVENT:FALSE
SUMMARY:Top 10 Ways to Improve Your Listening
DESCRIPTION:This 75-minute session will teach you behaviors that will increase your ability to listen actively. Listening skills allow one to make sense of and understand what another person is saying\, make workers more productive   Understand the purpose of listening   Use empathy\, paraphrasing\, encouragers\, and other techniques   Transform "problem" speakers to "problem-solving" speakers
X-ALT-DESC;FMTTYPE=text/html:This 75-minute session will teach you behaviors that will increase your ability to listen actively. Listening skills allow one to make sense of and understand what another person is saying\, make workers more productive &bull\; Understand the purpose of listening &bull\; Use empathy\, paraphrasing\, encouragers\, and other techniques &bull\; Transform &ldquo\;problem&rdquo\; speakers to &ldquo\;problem-solving&rdquo\; speakers
LOCATION:Live Zoom
UID:e.2066.5353
SEQUENCE:3
DTSTAMP:20260419T153504Z
URL:https://dev.chainolakeschamber.com/events/details/top-10-ways-to-improve-your-listening-5353
END:VEVENT

END:VCALENDAR
