BEGIN:VCALENDAR
VERSION:2.0
PRODID:-//ChamberMaster//Event Calendar 2.0//EN
METHOD:PUBLISH
X-PUBLISHED-TTL:P3D
REFRESH-INTERVAL:P3D
CALSCALE:GREGORIAN
BEGIN:VEVENT
DTSTART:20230815T154000Z
DTEND:20230815T165500Z
X-MICROSOFT-CDO-ALLDAYEVENT:FALSE
SUMMARY:Top 10 Tips to Conduct Effective Meetings
DESCRIPTION:This 75-minute session will teach the essential rules to have virtual and in-person meetings which are productive and positive. Learn to:   Plan great meetings   Start a meeting correctly   Facilitate meetings to stay on time\, to manage discussions and to get results   Get participants to say "That meeting was a good use of my time"!
X-ALT-DESC;FMTTYPE=text/html:This 75-minute session will teach the essential rules to have virtual and in-person meetings which are productive and positive. Learn to: &bull\; Plan great meetings &bull\; Start a meeting correctly &bull\; Facilitate meetings to stay on time\, to manage discussions and to get results &bull\; Get participants to say &quot\;That meeting was a good use of my time&quot\;!
LOCATION:Live Zoom
UID:e.2066.5337
SEQUENCE:3
DTSTAMP:20260419T121302Z
URL:https://dev.chainolakeschamber.com/events/details/top-10-tips-to-conduct-effective-meetings-5337
END:VEVENT

END:VCALENDAR
