BEGIN:VCALENDAR
VERSION:2.0
PRODID:-//ChamberMaster//Event Calendar 2.0//EN
METHOD:PUBLISH
X-PUBLISHED-TTL:P3D
REFRESH-INTERVAL:P3D
CALSCALE:GREGORIAN
BEGIN:VEVENT
DTSTART:20230914T181000Z
DTEND:20230914T192500Z
X-MICROSOFT-CDO-ALLDAYEVENT:FALSE
SUMMARY:Top 10 Tips to Communicate Assertively Not Aggressively
DESCRIPTION:This 75-minute session will teach some of the verbal\, visual and vocal communication behaviors to express your wants assertively.   Communicate Assertively not Aggressively   Identify the differences between assertive\, passive and aggressive communication behaviors   Use assertive verbal\, visual and vocal communication behaviors to express your wants   Learn the aggressive words\, voice and visual behaviors that negatively impact relationships
X-ALT-DESC;FMTTYPE=text/html:This 75-minute session will teach some of the verbal\, visual and vocal communication behaviors to express your wants assertively. &bull\; Communicate Assertively not Aggressively &bull\; Identify the differences between assertive\, passive and aggressive communication behaviors &bull\; Use assertive verbal\, visual and vocal communication behaviors to express your wants &bull\; Learn the aggressive words\, voice and visual behaviors that negatively impact relationships
LOCATION:Live Zoom
UID:e.2066.5347
SEQUENCE:3
DTSTAMP:20260419T142924Z
URL:https://dev.chainolakeschamber.com/events/details/top-10-tips-to-communicate-assertively-not-aggressively-5347
END:VEVENT

END:VCALENDAR
