BEGIN:VCALENDAR
VERSION:2.0
PRODID:-//ChamberMaster//Event Calendar 2.0//EN
METHOD:PUBLISH
X-PUBLISHED-TTL:P3D
REFRESH-INTERVAL:P3D
CALSCALE:GREGORIAN
BEGIN:VEVENT
DTSTART:20210721T140000Z
DTEND:20210721T153000Z
X-MICROSOFT-CDO-ALLDAYEVENT:FALSE
SUMMARY:Tools for Success: The Art of Pivoting: Strategies for Developing a Flexible Business Model for the Future
DESCRIPTION:# 4 of 5 part series\n\nThe Art of Pivoting: Strategies for Developing a Flexible Business Model for the Future\n\n \n\nThe COVID-19 Pandemic has caused changes to business models in every industry. Learn how one business owner and their ad agency pivoted to create a strong brand identity through social media engagement and digital advertising. The discussion will include how to use data to calculate success. This session will include time for Q&A on how you can apply these concepts to your specific industry. \n\n \n\nJulieanne Shields is the President & CEO of usasbe.org   the United States Association for Small Business & Entrepreneurship.
X-ALT-DESC;FMTTYPE=text/html:# 4 of 5 part series<br />\n<span style="font-family:arial\,sans-serif\;">The Art of Pivoting: Strategies for Developing a Flexible Business Model for the Future</span><br />\n&nbsp\;<br />\n<span style="font-family:arial\,sans-serif\;">The COVID-19 Pandemic has caused changes to business models in every industry. Learn how one business owner and their ad agency pivoted to create a strong brand identity through social media engagement and digital advertising. The discussion will include how to use data to calculate success. This session will include time for Q&amp\;A on how you can apply these concepts to your specific industry. </span><br />\n&nbsp\;<br />\n<span style="font-family:arial\,sans-serif\;"><span style="font-size:8.0pt\;">Julieanne Shields is the President &amp\; CEO of usasbe.org &ndash\; the United States Association for Small Business &amp\; Entrepreneurship. </span></span><br />\n<br />\n&nbsp\;
LOCATION:Webinar
UID:e.2066.3935
SEQUENCE:3
DTSTAMP:20260423T112331Z
URL:https://dev.chainolakeschamber.com/events/details/tools-for-success-the-art-of-pivoting-strategies-for-developing-a-flexible-business-model-for-the-future-3935
END:VEVENT

END:VCALENDAR
