BEGIN:VCALENDAR
VERSION:2.0
PRODID:-//ChamberMaster//Event Calendar 2.0//EN
METHOD:PUBLISH
X-PUBLISHED-TTL:P3D
REFRESH-INTERVAL:P3D
CALSCALE:GREGORIAN
BEGIN:VEVENT
DTSTART:20210421T140000Z
DTEND:20210421T153000Z
X-MICROSOFT-CDO-ALLDAYEVENT:FALSE
SUMMARY:Tools for Success: Navigating the New Normal Series- all 5 $75
DESCRIPTION:Join us for this series of five monthly webinars to receive helpful and practical tools to navigate the new normal. Experts in their fields will show you all you need to know? From legal considerations\, to best practices in digital advertising\; from brand identity to effective sales techniques\; from actionable advice on marketing and communication best practices to help your small business succeed in 2021 and beyond. \n\n\n\nFor more details about each session \n\n \n\nYou may register for the series as a whole or register for each webinar individually. \n\nEach webinar is $15
X-ALT-DESC;FMTTYPE=text/html:<span style="font-family:times new roman\;"><span style="background:white\;"><span style="color:black\;"><span style="font-size:14.0pt\;">Join us for this series of five monthly webinars to receive helpful and practical tools to navigate the new normal. Experts in their fields will show you all you need to know? From legal considerations\, to best practices in digital advertising\; from brand identity to effective sales techniques\; from </span></span></span><span style="color:black\;"><span style="font-size:14.0pt\;">actionable advice on marketing and communication best practices to help your small business succeed in 2021 and beyond. </span></span><br />\n<br />\n<span style="font-size:20px\;">For more details about each session </span><br />\n&nbsp\;<br />\n<span style="color:black\;"><span style="font-size:14.0pt\;">You may register for the series as a whole or register for each webinar individually. </span></span><br />\n<span style="color:black\;"><span style="font-size:14.0pt\;">Each webinar is $15</span></span></span><br />\n&nbsp\;
LOCATION:Webinar
UID:e.2066.3937
SEQUENCE:3
DTSTAMP:20260423T160152Z
URL:https://dev.chainolakeschamber.com/events/details/tools-for-success-navigating-the-new-normal-series-all-5-75-3937
END:VEVENT

END:VCALENDAR
