BEGIN:VCALENDAR
VERSION:2.0
PRODID:-//ChamberMaster//Event Calendar 2.0//EN
METHOD:PUBLISH
X-PUBLISHED-TTL:P3D
REFRESH-INTERVAL:P3D
CALSCALE:GREGORIAN
BEGIN:VEVENT
DTSTART;VALUE=DATE:20210331
DTEND;VALUE=DATE:20210401
TRANSP:TRANSPARENT
X-MICROSOFT-CDO-ALLDAYEVENT:TRUE
SUMMARY:Tools for Success: Navigating the New Normal Series
DESCRIPTION:Click Here to learn more about the series\n\n\n\nTools for Success:\n\nNavigating the New Normal\n\n \n\nJoin us for this series of five monthly webinars to receive helpful and practical tools to navigate the new normal. Experts in their fields will show you all you need to know    from legal considerations to best practices in digital advertising\; from brand identity to effective sales techniques\; from actionable advice on marketing and communication best practices to help your small business succeed in 2021 and beyond. \n\n \n\nYou may register for the series as a whole or register for each webinar individually. \n\nEach webinar is $15
X-ALT-DESC;FMTTYPE=text/html:<strong><span style="background:white\;"><span style="font-family:arial\,sans-serif\;"><a href="https://chambermaster.blob.core.windows.net/userfiles/UserFiles/chambers/2066/File/ToolsforSuccess2021.pdf">Click Here</a> to learn more about the series<br />\n<br />\nTools for Success:</span></span></strong><br />\n<strong><span style="background:white\;"><span style="font-family:arial\,sans-serif\;">Navigating the New Normal</span></span></strong><br />\n&nbsp\;<br />\n<em><span style="background:white\;"><span style="font-family:arial\,sans-serif\;">Join us for this series of five monthly webinars to receive helpful and practical tools to navigate the new normal. Experts in their fields will show you all you need to know &nbsp\;&ndash\; from legal considerations to best practices in digital advertising\; from brand identity to effective sales techniques\; from </span></span></em><em><span style="color:black\;"><span style="font-family:arial\,sans-serif\;">actionable advice on marketing and communication best practices to help your small business succeed in 2021 and beyond. </span></span></em><br />\n&nbsp\;<br />\n<em><span style="color:black\;"><span style="font-family:arial\,sans-serif\;">You may register for the series as a whole or register for each webinar individually. </span></span></em><br />\n<em><span style="color:black\;"><span style="font-family:arial\,sans-serif\;">Each webinar is $15</span></span></em><br />\n&nbsp\;
LOCATION:
UID:e.2066.3931
SEQUENCE:3
DTSTAMP:20260423T193343Z
URL:https://dev.chainolakeschamber.com/events/details/tools-for-success-navigating-the-new-normal-series-3931
END:VEVENT

END:VCALENDAR
