BEGIN:VCALENDAR
VERSION:2.0
PRODID:-//ChamberMaster//Event Calendar 2.0//EN
METHOD:PUBLISH
X-PUBLISHED-TTL:P3D
REFRESH-INTERVAL:P3D
CALSCALE:GREGORIAN
BEGIN:VEVENT
DTSTART:20210616T140000Z
DTEND:20210616T153000Z
X-MICROSOFT-CDO-ALLDAYEVENT:FALSE
SUMMARY:Tools for Success: Crucial Business Components to Success presented by Amanda Brinkman
DESCRIPTION:#3 of 5 part series\n\n\n\nAmanda Brinkman is the creator\, producer and host of the hit series "Small Business Revolution\," which streams on Hulu and Prime Video and was named among Inc. Magazine's top shows for entrepreneurs. Now in production of their 6th season\, each year the Small Business Revolution revitalizes a different community's "Main Street" through small business makeovers. Every episode they help work to help the entrepreneur with marketing\, finance\, operations and physical transformations of their space. Amanda will share the lessons learned in working with small businesses across the country\, offering the audience actionable advice on marketing and communication best practices. Often small businesses feel they can't afford the time or fiscal investment in marketing\, but Amanda is often quoted saying small businesses can't afford to NOT to invest in marketing. She will share insights of the most important focus areas of your brand and digital footprint\, sharing case studies from real businesses featured in the Small Business Revolution series. More information\, including the first 5 seasons of the Small Business Revolution\, can be found at http://smallbusinessrevolution.org
X-ALT-DESC;FMTTYPE=text/html:#3 of 5 part series<br />\n<br />\nAmanda Brinkman is the creator\, producer and host of the hit series &ldquo\;Small Business Revolution\,&rdquo\; which streams on Hulu and Prime Video and was named among Inc. Magazine&rsquo\;s top shows for entrepreneurs. Now in production of their 6th season\, each year the Small Business Revolution revitalizes a different community&rsquo\;s &ldquo\;Main Street&rdquo\; through small business makeovers. Every episode they help work to help the entrepreneur with marketing\, finance\, operations and physical transformations of their space. Amanda will share the lessons learned in working with small businesses across the country\, offering the audience actionable advice on marketing and communication best practices. Often small businesses feel they can&rsquo\;t afford the time or fiscal investment in marketing\, but Amanda is often quoted saying small businesses can&rsquo\;t afford to NOT to invest in marketing. She will share insights of the most important focus areas of your brand and digital footprint\, sharing case studies from real businesses featured in the Small Business Revolution series. More information\, including the first 5 seasons of the Small Business Revolution\, can be found at <a href="http://smallbusinessrevolution.org">http://smallbusinessrevolution.org</a>
LOCATION:Webinar
UID:e.2066.3934
SEQUENCE:3
DTSTAMP:20260423T130208Z
URL:https://dev.chainolakeschamber.com/events/details/tools-for-success-crucial-business-components-to-success-presented-by-amanda-brinkman-3934
END:VEVENT

END:VCALENDAR
