BEGIN:VCALENDAR
VERSION:2.0
PRODID:-//ChamberMaster//Event Calendar 2.0//EN
METHOD:PUBLISH
X-PUBLISHED-TTL:P3D
REFRESH-INTERVAL:P3D
CALSCALE:GREGORIAN
BEGIN:VEVENT
DTSTART:20221022T160000Z
DTEND:20221022T180000Z
X-MICROSOFT-CDO-ALLDAYEVENT:FALSE
SUMMARY:Titer Clinic
DESCRIPTION:Titer's measure the antibodies in your pet's blood that help prevent over-vaccination.\n\n\n\nNo appointment necessary (first come\, first serve basis)\n\n$65 for the Titer's Test administered by Dr. Brand of the Richmond Vet Clinic.\n\nCash and checks payable to Richmond Veterinary Clinic accepted.\n\n\n\nA titer is a simple blood test that measures the antibodies in your pet's blood to determine immunity and protection against diseases such as parvo and distemper.\n\n\n\nVaccinations have their benefits and risks. It is important to provide protection and not over vaccinate. If your pet's parvo shot can provide immunity against parvo for several years\, then why vaccinate again? I have seen the damage over-vaccinating can cause an animal\; from gut problems to allergies.\n\nNature's Feed does not provide medical advice\, but we do educate our customers to empower them to be the voice of their pets and make informed decisions.
X-ALT-DESC;FMTTYPE=text/html:<div>Titer&#39\;s measure the antibodies in your pet&#39\;s blood that help prevent over-vaccination.</div>\n\n<div><br />\nNo appointment necessary (first come\, first serve basis)<br />\n$65 for the Titer&#39\;s Test administered by Dr. Brand of the Richmond Vet Clinic.</div>\n\n<div>Cash and checks payable to Richmond Veterinary Clinic accepted.</div>\n\n<div><br />\nA titer is a simple blood test that measures the antibodies in your pet&#39\;s blood to determine immunity and protection against diseases such as parvo and distemper.</div>\n\n<div><br />\nVaccinations have their benefits and risks. It is important to provide protection and not over vaccinate. If your pet&#39\;s parvo shot can provide immunity against parvo for several years\, then why vaccinate again? I have seen the damage over-vaccinating can cause an animal\; from gut problems to allergies.</div>\n\n<div>Nature&#39\;s Feed does not provide medical advice\, but we do educate our customers to empower them to be the voice of their pets and make informed decisions.</div>\n
LOCATION:2440 Westward Dr\, Spring Grove\, IL 60081
UID:e.2066.4585
SEQUENCE:3
DTSTAMP:20260422T105403Z
URL:https://dev.chainolakeschamber.com/events/details/titer-clinic-4585
END:VEVENT

END:VCALENDAR
