BEGIN:VCALENDAR
VERSION:2.0
PRODID:-//ChamberMaster//Event Calendar 2.0//EN
METHOD:PUBLISH
X-PUBLISHED-TTL:P3D
REFRESH-INTERVAL:P3D
CALSCALE:GREGORIAN
BEGIN:VEVENT
DTSTART:20191026T190000Z
DTEND:20191026T210000Z
X-MICROSOFT-CDO-ALLDAYEVENT:FALSE
SUMMARY:Thriller Charity Bash
DESCRIPTION:Join WLAC for a Halloween Bash benefitting The Turning Point!  We will have a Ninja Course with Warped Wall\, Games\, Face Painting\, RAFFLES\, Costume contests with prizes and so much more!\n\n\n\nStop by for a fun family-friendly event!\n\n\n\nWe will even clear the floor for a Thriller Dance Lesson!\n\n\n\nThis event is for families - no drop-offs\, please.
X-ALT-DESC;FMTTYPE=text/html:<span style="background-color:rgb(255\, 255\, 255)\; color:rgb(29\, 33\, 41)\; font-family:inherit\; font-size:14px">Join WLAC for a Halloween Bash benefitting The Turning Point!&nbsp\; We will have a Ninja Course with Warped Wall\, Games\, Face Painting\, RAFFLES\, Costume contests with prizes and so much more!</span><br />\n<br />\n<span style="background-color:rgb(255\, 255\, 255)\; color:rgb(29\, 33\, 41)\; font-family:inherit\; font-size:14px">Stop by for a fun family-friendly event!</span><br />\n<br />\n<span style="background-color:rgb(255\, 255\, 255)\; color:rgb(29\, 33\, 41)\; font-family:inherit\; font-size:14px">We will even clear the floor for a Thriller Dance Lesson!</span><br />\n<br />\n<span style="background-color:rgb(255\, 255\, 255)\; color:rgb(29\, 33\, 41)\; font-family:inherit\; font-size:14px">This event is for families - no drop-offs\, please.</span>
LOCATION:Westosha Legacy Athletic Club (WLAC) 2449 Pierce Drive Spring Grove
UID:e.2066.3139
SEQUENCE:3
DTSTAMP:20260424T220336Z
URL:https://dev.chainolakeschamber.com/events/details/thriller-charity-bash-3139
END:VEVENT

END:VCALENDAR
