BEGIN:VCALENDAR
VERSION:2.0
PRODID:-//ChamberMaster//Event Calendar 2.0//EN
METHOD:PUBLISH
X-PUBLISHED-TTL:P3D
REFRESH-INTERVAL:P3D
CALSCALE:GREGORIAN
BEGIN:VEVENT
DTSTART:20220804T210000Z
DTEND:20220804T230000Z
X-MICROSOFT-CDO-ALLDAYEVENT:FALSE
SUMMARY:Three Little Birds Ribbon Cutting and Open House
DESCRIPTION:Join us for the Ribbon Cutting Ceremony at Three Little Birds Boutique & Artisan Market at 2020 US Route 12\, Spring Grove\, IL from 4:00pm - 6:00pm.\n\n\n\nOpen House will follow immediately afterwards and will include a scavenger hunt! Three little birds will be  hidden in the store with prizes for the lucky winners who find them!
X-ALT-DESC;FMTTYPE=text/html:Join us for the Ribbon Cutting Ceremony at Three Little Birds Boutique &amp\; Artisan Market at 2020 US Route 12\, Spring Grove\, IL from 4:00pm - 6:00pm.<br />\n<br />\nOpen House will follow immediately afterwards and will include a scavenger hunt! Three little birds will be&nbsp\; hidden in the store with prizes for the lucky winners who find them!
LOCATION:2020 US Route 12\, Spring Grove\, IL
UID:e.2066.4565
SEQUENCE:3
DTSTAMP:20260422T135435Z
URL:https://dev.chainolakeschamber.com/events/details/three-little-birds-ribbon-cutting-and-open-house-4565
END:VEVENT

END:VCALENDAR
