BEGIN:VCALENDAR
VERSION:2.0
PRODID:-//ChamberMaster//Event Calendar 2.0//EN
METHOD:PUBLISH
X-PUBLISHED-TTL:P3D
REFRESH-INTERVAL:P3D
CALSCALE:GREGORIAN
BEGIN:VEVENT
DTSTART;VALUE=DATE:20210911
DTEND;VALUE=DATE:20210912
TRANSP:TRANSPARENT
X-MICROSOFT-CDO-ALLDAYEVENT:TRUE
SUMMARY:Third Annual River Ridge Golf Outing
DESCRIPTION:On September 11\, The Men's Ministry will host our third annual golf outing at Valley Ridge Golf Course in Antioch\, Il.  Although hosted by the Men's Ministry\, the outing is open to both men and women. This year's event is going to be better than ever! We have partnered with Dixon Golf to bring you some exciting games and prizes. The event will be a four-person scramble\, with prizes for low score\, longest drive for both men and women\, closest to the pin\, and a putting contest. In partnership with Dixon Golf\, participants will also be able to opt into 2 fun games for an additional fee\; a hole-in-one competition and a driving contest with a $500 driver or watch as a prize. \n\n\n\nThe outing is limited to 72 golfers\, so we encourage you to register early. Once we reach 18 foursomes or 72 golfers\, the registration will be closed.
X-ALT-DESC;FMTTYPE=text/html:<span style="color:rgb(32\, 32\, 32)\; font-family:helvetica\; font-size:16px">On September 11\, The Men&#39\;s Ministry will host our third annual golf outing at Valley Ridge Golf Course in Antioch\, Il.&nbsp\;&nbsp\;</span><strong><span style="color:rgb(0\, 0\, 205)"><span style="font-size:14px">Although hosted by the Men&#39\;s Ministry\, the outing is open to both men and women.</span>&nbsp\;</span></strong><span style="color:rgb(32\, 32\, 32)\; font-family:helvetica\; font-size:16px">This year&#39\;s event is going to be better than ever! We have partnered with Dixon Golf to bring you some exciting games and prizes. The event will be a four-person&nbsp\;scramble\, with prizes for low score\, longest drive for both men and women\, closest to the pin\, and a putting contest.&nbsp\;In partnership with Dixon Golf\, participants will also be able to opt into 2 fun games for an additional fee\;&nbsp\;a hole-in-one competition and a driving contest with a $500 driver or watch as a prize.&nbsp\;</span><br />\n<br />\n<strong><span style="color:#0000CD"><span style="font-family:helvetica">T</span></span><span style="color:rgb(0\, 0\, 205)">he outing is limited to 72 golfers\, so we encourage you to register early.</span></strong><span style="color:rgb(32\, 32\, 32)\; font-family:helvetica">&nbsp\;</span><span style="color:rgb(32\, 32\, 32)\; font-family:helvetica\; font-size:16px">Once we reach 18 foursomes or 72 golfers\, the registration will be closed.&nbsp\;</span>
LOCATION:Valley Ridge Golf Course in Antioch\, Il.
UID:e.2066.4109
SEQUENCE:3
DTSTAMP:20260423T082844Z
URL:https://dev.chainolakeschamber.com/events/details/third-annual-river-ridge-golf-outing-4109
END:VEVENT

END:VCALENDAR
