BEGIN:VCALENDAR
VERSION:2.0
PRODID:-//ChamberMaster//Event Calendar 2.0//EN
METHOD:PUBLISH
X-PUBLISHED-TTL:P3D
REFRESH-INTERVAL:P3D
CALSCALE:GREGORIAN
BEGIN:VEVENT
DTSTART:20230426T220000Z
DTEND:20230427T000000Z
X-MICROSOFT-CDO-ALLDAYEVENT:FALSE
SUMMARY:Think Spring Mult-Chamber Mixer - Perricone Garden Center & Nursery
DESCRIPTION:Join us with McHenry Area Chamber of Commerce for a fun-filled night at the Think Spring Multi-Chamber Mixer!\n\nFood and beverages will be served and attendees have the option of building a flower pot!
X-ALT-DESC;FMTTYPE=text/html:Join us with McHenry Area Chamber of Commerce for a fun-filled night at the Think Spring Multi-Chamber Mixer!<br />\nFood and beverages will be served and attendees have the option of building a flower pot!<br />\n&nbsp\;
LOCATION:Perricone Garden and Nursery Center 31600 Fisher Road Volo\, IL
UID:e.2066.5015
SEQUENCE:3
DTSTAMP:20260419T205359Z
URL:https://dev.chainolakeschamber.com/events/details/think-spring-mult-chamber-mixer-perricone-garden-center-nursery-5015
END:VEVENT

END:VCALENDAR
