BEGIN:VCALENDAR
VERSION:2.0
PRODID:-//ChamberMaster//Event Calendar 2.0//EN
METHOD:PUBLISH
X-PUBLISHED-TTL:P3D
REFRESH-INTERVAL:P3D
CALSCALE:GREGORIAN
BEGIN:VEVENT
DTSTART:20191010T220000Z
DTEND:20191011T000000Z
X-MICROSOFT-CDO-ALLDAYEVENT:FALSE
SUMMARY:The State Bank Group Multi Chamber Mixer
DESCRIPTION:Let's party like it's 1979!\n\n\n\nMulti-Chamber Mixer\n\n\n\nHelp us celebrate 40 great years with food\, drinks\, raffles\, and networking!
X-ALT-DESC;FMTTYPE=text/html:Let&#39\;s party like it&#39\;s 1979!<br />\n<br />\nMulti-Chamber Mixer<br />\n<br />\nHelp us celebrate 40 great years with food\, drinks\, raffles\, and networking!<br />\n<br />\n<br />\n<br />\n&nbsp\;
LOCATION:3503 Chapel Hill Road\, Johnsburg Ample parking across the street
UID:e.2066.2973
SEQUENCE:3
DTSTAMP:20260424T220624Z
URL:https://dev.chainolakeschamber.com/events/details/the-state-bank-group-multi-chamber-mixer-2973
END:VEVENT

END:VCALENDAR
