BEGIN:VCALENDAR
VERSION:2.0
PRODID:-//ChamberMaster//Event Calendar 2.0//EN
METHOD:PUBLISH
X-PUBLISHED-TTL:P3D
REFRESH-INTERVAL:P3D
CALSCALE:GREGORIAN
BEGIN:VEVENT
DTSTART:20221019T150000Z
DTEND:20221019T160000Z
X-MICROSOFT-CDO-ALLDAYEVENT:FALSE
SUMMARY:The Psychology of Aging and Quality of Life
DESCRIPTION:Presented by Chris Petrik\, RN\, BS\, Director of Education\,\n\n Dementia Reality Master Trainer\, Elderwerks Educational Services\n\n\n\nAccording to the American Psychological association\, people 65 and older are the fastest growing of segment population today. With this comes many questions and concerns about aging both physically and mentally and quality of life.
X-ALT-DESC;FMTTYPE=text/html:<span style="color:windowtext"><span style="font-family:gisha\,sans-serif"><span style="font-size:16.0pt">Presented by </span></span></span><strong><span style="color:windowtext"><span style="font-size:16.0pt">Chris Petrik\, RN\, BS\, Director of Education\,</span></span></strong><br />\n<strong><span style="color:windowtext"><span style="font-size:16.0pt">&nbsp\;Dementia Reality Master Trainer\, Elderwerks Educational Services</span></span></strong><br />\n<br />\n<span style="font-family:arial narrow\,sans-serif"><span style="font-size:16.0pt">According to the American Psychological association\, people 65 and older are the fastest growing of segment population today. With this comes many questions and concerns about aging both physically and mentally and quality of life.</span></span>
LOCATION:Zoom
UID:e.2066.4655
SEQUENCE:3
DTSTAMP:20260422T110048Z
URL:https://dev.chainolakeschamber.com/events/details/the-psychology-of-aging-and-quality-of-life-4655
END:VEVENT

END:VCALENDAR
