BEGIN:VCALENDAR
VERSION:2.0
PRODID:-//ChamberMaster//Event Calendar 2.0//EN
METHOD:PUBLISH
X-PUBLISHED-TTL:P3D
REFRESH-INTERVAL:P3D
CALSCALE:GREGORIAN
BEGIN:VEVENT
DTSTART:20210617T140000Z
DTEND:20210617T153000Z
X-MICROSOFT-CDO-ALLDAYEVENT:FALSE
SUMMARY:The Pragmatic Strategist
DESCRIPTION:People who evaluate the evolving big picture of the business and accept responsibility for the formulation and implementation of a realistic plan to move forward. This webinar is for business owners\, managers and professionals who need to prepare and execute a plan that reflects their emerging reality. This webinar is built around a quick exploration of the twelve factors and six important questions: Where are we? Where are we going? Why are we going there? What should we change? What can we change? What will we change?
X-ALT-DESC;FMTTYPE=text/html:People who evaluate the evolving big picture of the business and accept responsibility for the formulation and implementation of a realistic plan to move forward. This webinar is for business owners\, managers and professionals who need to prepare and execute a plan that reflects their emerging reality. This webinar is built around a quick exploration of the twelve factors and six important questions: Where are we? Where are we going? Why are we going there? What should we change? What can we change? What will we change?
LOCATION:Live Zoom
UID:e.2066.4037
SEQUENCE:3
DTSTAMP:20260423T125448Z
URL:https://dev.chainolakeschamber.com/events/details/the-pragmatic-strategist-4037
END:VEVENT

END:VCALENDAR
