BEGIN:VCALENDAR
VERSION:2.0
PRODID:-//ChamberMaster//Event Calendar 2.0//EN
METHOD:PUBLISH
X-PUBLISHED-TTL:P3D
REFRESH-INTERVAL:P3D
CALSCALE:GREGORIAN
BEGIN:VEVENT
DTSTART:20211012T140000Z
DTEND:20211012T153000Z
X-MICROSOFT-CDO-ALLDAYEVENT:FALSE
SUMMARY:The Pragmatic Strategist
DESCRIPTION:Pragmatic Strategists: People who evaluate the evolving big picture of the business and accept responsibility for the formulation and implementation of a realistic plan to move forward. This webinar is for business owners\, managers and professionals who need to prepare and execute a plan that reflects their emerging reality.
X-ALT-DESC;FMTTYPE=text/html:Pragmatic Strategists: People who evaluate the evolving big picture of the business and accept responsibility for the formulation and implementation of a realistic plan to move forward. This webinar is for business owners\, managers and professionals who need to prepare and execute a plan that reflects their emerging reality.
LOCATION:Live Zoom
UID:e.2066.4135
SEQUENCE:3
DTSTAMP:20260423T065657Z
URL:https://dev.chainolakeschamber.com/events/details/the-pragmatic-strategist-10-12-2021-4135
END:VEVENT

END:VCALENDAR
