BEGIN:VCALENDAR
VERSION:2.0
PRODID:-//ChamberMaster//Event Calendar 2.0//EN
METHOD:PUBLISH
X-PUBLISHED-TTL:P3D
REFRESH-INTERVAL:P3D
CALSCALE:GREGORIAN
BEGIN:VEVENT
DTSTART:20230713T150000Z
DTEND:20230713T160000Z
X-MICROSOFT-CDO-ALLDAYEVENT:FALSE
SUMMARY:THE OPIOID CRISIS THROUGH AN INTERGENERATIONAL LENS
DESCRIPTION:During this interesting presentation\, Chris Petrik will discuss the history of Opioids and the start of the Opioid crisis. She will review Opioid usage for pain management\, the national response to the Opioid epidemic\, the benefits and risks of Opioid use\, typical age-related changes in older adults that impact the use of Opioids\, the risk factors of overuse\, and more.
X-ALT-DESC;FMTTYPE=text/html:During this interesting&nbsp\;presentation\,&nbsp\;Chris Petrik&nbsp\;will discuss&nbsp\;the history of Opioids and the&nbsp\;start of the Opioid crisis. She will&nbsp\;review Opioid usage for pain&nbsp\;management\, the national&nbsp\;response to the Opioid epidemic\,&nbsp\;the benefits and risks of Opioid&nbsp\;use\, typical age-related changes in&nbsp\;older adults that impact the use&nbsp\;of Opioids\, the risk factors of&nbsp\;overuse\, and more.
LOCATION:Zoom
UID:e.2066.5246
SEQUENCE:3
DTSTAMP:20260419T140110Z
URL:https://dev.chainolakeschamber.com/events/details/the-opioid-crisis-through-an-intergenerational-lens-5246
END:VEVENT

END:VCALENDAR
