BEGIN:VCALENDAR
VERSION:2.0
PRODID:-//ChamberMaster//Event Calendar 2.0//EN
METHOD:PUBLISH
X-PUBLISHED-TTL:P3D
REFRESH-INTERVAL:P3D
CALSCALE:GREGORIAN
BEGIN:VEVENT
DTSTART:20230223T160000Z
DTEND:20230223T170000Z
X-MICROSOFT-CDO-ALLDAYEVENT:FALSE
SUMMARY:The Opioid Crisis and the Older Adult
DESCRIPTION:The opioid crisis does not only affect the younger populations. With chronic pain being one of the largest complaints among older adults\, it seems reasonable that they would require relief to be a productive part of society. Learn how this can prove to be a hazard as the aging body changes causing complications\, along with addiction. See the CDC recommendations for the use of opioids for older adults\, and learn how to advocate for your patient\, yourself or the one you care for as it relates to managing pain without the complications of the risks.\n\n\n\nReservations are required.\n\nWebinar access information will be emailed after registration and prior to the date of the event.\n\nQuestions?\n\n847-462-0885 | Events@Elderwerks.org\n\nwww.Elderwerks.org
X-ALT-DESC;FMTTYPE=text/html:The opioid crisis does not only affect the younger populations. With chronic pain being one of the largest complaints among older adults\, it seems reasonable that they would require relief to be a productive part of society. Learn how this can prove to be a hazard as the aging body changes causing complications\, along with addiction. See the CDC recommendations for the use of opioids for older adults\, and learn how to advocate for your patient\, yourself or the one you care for as it relates to managing pain without the complications of the risks.<br />\n<br />\nReservations are required.<br />\nWebinar access information will be emailed after registration and prior to the date of the event.<br />\nQuestions?<br />\n847-462-0885 | Events@Elderwerks.org<br />\nwww.Elderwerks.org
LOCATION:Zoom
UID:e.2066.4978
SEQUENCE:3
DTSTAMP:20260419T223354Z
URL:https://dev.chainolakeschamber.com/events/details/the-opioid-crisis-and-the-older-adult-4978
END:VEVENT

END:VCALENDAR
