BEGIN:VCALENDAR
VERSION:2.0
PRODID:-//ChamberMaster//Event Calendar 2.0//EN
METHOD:PUBLISH
X-PUBLISHED-TTL:P3D
REFRESH-INTERVAL:P3D
CALSCALE:GREGORIAN
BEGIN:VEVENT
DTSTART:20210429T140000Z
DTEND:20210429T150000Z
X-MICROSOFT-CDO-ALLDAYEVENT:FALSE
SUMMARY:The New Business Model: Plan & Pivot
DESCRIPTION:Learn best practices on how to leverage this tool for developing new business models and documenting existing ones\, assisting businesses to align their activities by illustrating potential trade-offs.
X-ALT-DESC;FMTTYPE=text/html:Learn best practices on how to leverage this tool for developing new business models and documenting existing ones\, assisting businesses to align their activities by illustrating potential trade-offs.
LOCATION:Live Zoom
UID:e.2066.3945
SEQUENCE:3
DTSTAMP:20260423T160207Z
URL:https://dev.chainolakeschamber.com/events/details/the-new-business-model-plan-pivot-04-29-2021-3945
END:VEVENT

END:VCALENDAR
