BEGIN:VCALENDAR
VERSION:2.0
PRODID:-//ChamberMaster//Event Calendar 2.0//EN
METHOD:PUBLISH
X-PUBLISHED-TTL:P3D
REFRESH-INTERVAL:P3D
CALSCALE:GREGORIAN
BEGIN:VEVENT
DTSTART:20221111T230000Z
DTEND:20221112T020000Z
X-MICROSOFT-CDO-ALLDAYEVENT:FALSE
SUMMARY:The Nature of Hackmatack Art Show Holds Community and Artists’ Reception
DESCRIPTION:CRYSTAL LAKE IL- An art show featuring works from local artists aged 4 to 94 is now open in the Dole and Sage galleries at The Dole in Crystal Lake. Members of the public are invited to visit this free show on weekdays from November 3rd through 17th from 9 am to 5 pm at The Dole\, 401 Country Club Rd\, Crystal Lake\, Illinois. The art show celebrates the 10th anniversary of Hackmatack National Wildlife Refuge which was established in McHenry County\, Illinois and Walworth County\, Wisconsin on November 6\, 2012.  \n\n \n\nThe art show features over 100 pieces of art including paintings\, glasswork\, poems\, multimedia works\, fabric art\, drawings\, metalwork and weavings\, all inspired by the nature of the region where the Hackmatack National Wildlife Refuge is located. A community and artists' reception will be held on Friday November 11 from 5 to 8 pm when the public will have a chance to meet the artists.\n\n \n\nFor more info about Friends of Hackmatack National Wildlife Refuge\, visit hackmatacknwr.org. The Friends can be reached at (262) 448-3558.
X-ALT-DESC;FMTTYPE=text/html:<p style="box-sizing: border-box\; margin: 0px\; padding: 0px\; border: 0px rgb(225\, 225\, 225)\; font-variant-numeric: normal\; font-variant-east-asian: normal\; font-stretch: normal\; font-size: 15px\; line-height: normal\; font-family: OpenSans\, HelveticaNeue\, Helvetica\, Arial\, sans-serif\; vertical-align: baseline\; color: rgb(7\, 69\, 107)\; background-color: rgb(255\, 255\, 255)\;">CRYSTAL LAKE IL- An art show featuring works from local artists aged 4 to 94 is now open in the Dole and Sage galleries at The Dole in Crystal Lake. Members of the public are invited to visit this free show on weekdays from November 3rd through 17th from 9 am to 5 pm at The Dole\, 401 Country Club Rd\, Crystal Lake\, Illinois. The art show celebrates the 10th anniversary of Hackmatack National Wildlife Refuge which was established in McHenry County\, Illinois and Walworth County\, Wisconsin on November 6\, 2012.&nbsp\;<span style="box-sizing: border-box\; margin: 0px\; padding: 0px\; border: 0px\; font: inherit\; vertical-align: baseline\; color: inherit\;">&nbsp\;</span></p>\n\n<p style="box-sizing: border-box\; margin: 0px\; padding: 0px\; border: 0px rgb(225\, 225\, 225)\; font-variant-numeric: normal\; font-variant-east-asian: normal\; font-stretch: normal\; font-size: 15px\; line-height: normal\; font-family: OpenSans\, HelveticaNeue\, Helvetica\, Arial\, sans-serif\; vertical-align: baseline\; color: rgb(7\, 69\, 107)\; background-color: rgb(255\, 255\, 255)\; min-height: 15px\;">&nbsp\;</p>\n\n<p style="box-sizing: border-box\; margin: 0px\; padding: 0px\; border: 0px rgb(225\, 225\, 225)\; font-variant-numeric: normal\; font-variant-east-asian: normal\; font-stretch: normal\; font-size: 15px\; line-height: normal\; font-family: OpenSans\, HelveticaNeue\, Helvetica\, Arial\, sans-serif\; vertical-align: baseline\; outline: 0px\; color: rgb(7\, 69\, 107)\; background-color: rgb(255\, 255\, 255)\;">The art show features over 100 pieces of art including paintings\, glasswork\, poems\, multimedia works\, fabric art\, drawings\, metalwork and weavings\, all inspired by the nature of the region where the Hackmatack National Wildlife Refuge is located. A community and artists&rsquo\; reception will be held on Friday November 11 from 5 to 8 pm when the public will have a chance to meet the artists.</p>\n\n<p style="box-sizing: border-box\; margin: 0px\; padding: 0px\; border: 0px rgb(225\, 225\, 225)\; font-variant-numeric: normal\; font-variant-east-asian: normal\; font-stretch: normal\; font-size: 15px\; line-height: normal\; font-family: OpenSans\, HelveticaNeue\, Helvetica\, Arial\, sans-serif\; vertical-align: baseline\; color: rgb(7\, 69\, 107)\; background-color: rgb(255\, 255\, 255)\; min-height: 9px\;">&nbsp\;</p>\n\n<p style="box-sizing: border-box\; margin: 0px\; padding: 0px\; border: 0px rgb(225\, 225\, 225)\; font-variant-numeric: normal\; font-variant-east-asian: normal\; font-stretch: normal\; font-size: 15px\; line-height: normal\; font-family: OpenSans\, HelveticaNeue\, Helvetica\, Arial\, sans-serif\; vertical-align: baseline\; background-color: rgb(255\, 255\, 255)\; color: rgb(26\, 26\, 26)\;">For more info about Friends of Hackmatack National Wildlife Refuge\, visit&nbsp\;<a data-auth="NotApplicable" data-linkindex="1" data-safelink="true" href="http://hackmatacknwr.org/" rel="noopener noreferrer" style="box-sizing: border-box\; margin: 0px\; padding: 0px\; border: 0px\; font: inherit\; vertical-align: baseline\; text-decoration-line: none\; outline: 0px\; max-width: 100%\; color: rgb(7\, 69\, 107)\; background-color: transparent\; overflow-wrap: break-word\;" target="_blank"><span style="box-sizing: border-box\; margin: 0px\; padding: 0px\; border: 0px\; font: inherit\; vertical-align: baseline\; color: rgb(0\, 0\, 255)\;">hackmatacknwr.org</span></a><span style="box-sizing: border-box\; margin: 0px\; padding: 0px\; border: 0px\; font-style: inherit\; font-variant-ligatures: inherit\; font-variant-caps: inherit\; font-variant-numeric: normal\; font-variant-east-asian: normal\; font-weight: inherit\; font-stretch: normal\; font-size: inherit\; line-height: normal\; font-family: Cambria\; vertical-align: baseline\; color: rgb(0\, 0\, 0)\;">. The Friends can be reached at (262) 448-3558.</span></p>\n
LOCATION:The Dole 401 Country Club Rd Crystal Lake\, Illinois
UID:e.2066.4875
SEQUENCE:3
DTSTAMP:20260422T091716Z
URL:https://dev.chainolakeschamber.com/events/details/the-nature-of-hackmatack-art-show-holds-community-and-artists-reception-4875
END:VEVENT

END:VCALENDAR
