BEGIN:VCALENDAR
VERSION:2.0
PRODID:-//ChamberMaster//Event Calendar 2.0//EN
METHOD:PUBLISH
X-PUBLISHED-TTL:P3D
REFRESH-INTERVAL:P3D
CALSCALE:GREGORIAN
BEGIN:VEVENT
DTSTART:20221029T210000Z
DTEND:20221030T000000Z
X-MICROSOFT-CDO-ALLDAYEVENT:FALSE
SUMMARY:The Magic of Fall at Richmond Cafe
DESCRIPTION:Wine Tasting and Magic Show\n\nCome join us for a magical evening at Richmond Cafe. It all begins with a fall wine tasting along with hors d'oeuvres\, a show by the amazing Magic Dagve\, and dessert to end the night! Additional drinks and barista bar will be available for purchase.\n\n\n\nSpace is limited. Holiday wine sale with discounts on six or more bottles. Wine orders will be taken and need to be paid for the same evening for pick up the following week.\n\n\n\nMust be 21 to attend.
X-ALT-DESC;FMTTYPE=text/html:Wine Tasting and Magic Show<br />\nCome join us for a magical evening at Richmond Cafe. It all begins with a fall wine tasting along with hors d&#39\;oeuvres\, a show by the amazing Magic Dagve\, and dessert to end the night! Additional drinks and barista bar will be available for purchase.<br />\n<br />\nSpace is limited. Holiday wine sale with discounts on six or more bottles. Wine orders will be taken and need to be paid for the same evening for pick up the following week.<br />\n<br />\nMust be 21 to attend.
LOCATION:Richmond Cafe 10321 N. Main Street Richmond IL 60071
UID:e.2066.4862
SEQUENCE:3
DTSTAMP:20260422T120814Z
URL:https://dev.chainolakeschamber.com/events/details/the-magic-of-fall-at-richmond-cafe-4862
END:VEVENT

END:VCALENDAR
