BEGIN:VCALENDAR
VERSION:2.0
PRODID:-//ChamberMaster//Event Calendar 2.0//EN
METHOD:PUBLISH
X-PUBLISHED-TTL:P3D
REFRESH-INTERVAL:P3D
CALSCALE:GREGORIAN
BEGIN:VEVENT
DTSTART:20221216T000000Z
DTEND:20221216T010000Z
X-MICROSOFT-CDO-ALLDAYEVENT:FALSE
SUMMARY:The Lola Bard Holiday Carolers at Fox Lake Library
DESCRIPTION:The Lola Bard Holiday Carolers will sing at the Fox Lake Library!
X-ALT-DESC;FMTTYPE=text/html:The Lola Bard Holiday Carolers will sing at the Fox Lake Library!
LOCATION:Fox Lake Library 255 E. Grand Ave. Fox Lake IL 60020
UID:e.2066.4902
SEQUENCE:3
DTSTAMP:20260420T021706Z
URL:https://dev.chainolakeschamber.com/events/details/the-lola-bard-holiday-carolers-at-fox-lake-library-4902
END:VEVENT

END:VCALENDAR
