BEGIN:VCALENDAR
VERSION:2.0
PRODID:-//ChamberMaster//Event Calendar 2.0//EN
METHOD:PUBLISH
X-PUBLISHED-TTL:P3D
REFRESH-INTERVAL:P3D
CALSCALE:GREGORIAN
BEGIN:VEVENT
DTSTART:20221018T150000Z
DTEND:20221018T160000Z
X-MICROSOFT-CDO-ALLDAYEVENT:FALSE
SUMMARY:The Importance of Human Connection
DESCRIPTION:Presented by Chris Petrik\, RN\, BS\, Director of Education\,\n\n Dementia Reality Master Trainer\, Elderwerks Educational Services\n\n\n\nConnecting to the human spirit is essential to life. In this program we will define what the human connection means\, the importance of the human connection\, and how living in isolation can cause physical and mental issues.  Learn how to connect through touch\, music\, laughter\, listening\, and knowing the person living with dementia.
X-ALT-DESC;FMTTYPE=text/html:<span style="color:windowtext"><span style="font-family:gisha\,sans-serif"><span style="font-size:16.0pt">Presented by </span></span></span><strong><span style="color:windowtext"><span style="font-size:16.0pt">Chris Petrik\, RN\, BS\, Director of Education\,</span></span></strong><br />\n<strong><span style="color:windowtext"><span style="font-size:16.0pt">&nbsp\;Dementia Reality Master Trainer\, Elderwerks Educational Services</span></span></strong><br />\n<br />\n<span style="font-family:arial narrow\,sans-serif"><span style="font-size:16.0pt">Connecting to the human spirit is essential to life. In this program we will define what the human connection means\, the importance of the human connection\, and how living in isolation can cause physical and mental issues.&nbsp\; Learn how to connect through touch\, music\, laughter\, listening\, and knowing the person living with dementia.</span></span>
LOCATION:Zoom
UID:e.2066.4656
SEQUENCE:3
DTSTAMP:20260422T111528Z
URL:https://dev.chainolakeschamber.com/events/details/the-importance-of-human-connection-4656
END:VEVENT

END:VCALENDAR
