BEGIN:VCALENDAR
VERSION:2.0
PRODID:-//ChamberMaster//Event Calendar 2.0//EN
METHOD:PUBLISH
X-PUBLISHED-TTL:P3D
REFRESH-INTERVAL:P3D
CALSCALE:GREGORIAN
BEGIN:VEVENT
DTSTART:20221018T140000Z
DTEND:20221019T030000Z
X-MICROSOFT-CDO-ALLDAYEVENT:FALSE
SUMMARY:The Great Resignation: What's Really Going On?
DESCRIPTION:An exploration of money myths most business leaders assume are the reason behind why workers quit or fail to apply for jobs during the pandemic\, and how to better tackle the real reasons behind labor shortages today.
X-ALT-DESC;FMTTYPE=text/html:An exploration of money myths most business leaders assume are the reason behind why workers quit or fail to apply for jobs during the pandemic\, and how to better tackle the real reasons behind labor shortages today.
LOCATION:Live Zoom
UID:e.2066.4614
SEQUENCE:3
DTSTAMP:20260422T120910Z
URL:https://dev.chainolakeschamber.com/events/details/the-great-resignation-what-s-really-going-on-10-18-2022-4614
END:VEVENT

END:VCALENDAR
