BEGIN:VCALENDAR
VERSION:2.0
PRODID:-//ChamberMaster//Event Calendar 2.0//EN
METHOD:PUBLISH
X-PUBLISHED-TTL:P3D
REFRESH-INTERVAL:P3D
CALSCALE:GREGORIAN
BEGIN:VEVENT
DTSTART:20210930T220000Z
DTEND:20211001T010000Z
X-MICROSOFT-CDO-ALLDAYEVENT:FALSE
SUMMARY:The Gift Wrap Place Ribbon Cutting
DESCRIPTION:Mixer and Ribbon Cutting
X-ALT-DESC;FMTTYPE=text/html:Mixer and Ribbon Cutting
LOCATION:9716 N Rt 12 Richmond IL
UID:e.2066.4147
SEQUENCE:3
DTSTAMP:20260423T083351Z
URL:https://dev.chainolakeschamber.com/events/details/the-gift-wrap-place-ribbon-cutting-4147
END:VEVENT

END:VCALENDAR
