BEGIN:VCALENDAR
VERSION:2.0
PRODID:-//ChamberMaster//Event Calendar 2.0//EN
METHOD:PUBLISH
X-PUBLISHED-TTL:P3D
REFRESH-INTERVAL:P3D
CALSCALE:GREGORIAN
BEGIN:VEVENT
DTSTART:20230610T150000Z
DTEND:20230610T170000Z
X-MICROSOFT-CDO-ALLDAYEVENT:FALSE
SUMMARY:The Coffee Shop Grand Opening / Ribbon Cutting / Mixer
DESCRIPTION:The wait is over! The Coffee Shop in Fox Lake is celebrating their Grand Opening with a Ribbon Cutting and Mixer!\n\n\n\nJoin us in congratulating Pete and his team!
X-ALT-DESC;FMTTYPE=text/html:The wait is over! The Coffee Shop in Fox Lake is celebrating their Grand Opening with a Ribbon Cutting and Mixer!<br />\n<br />\nJoin us in congratulating Pete and his team!
LOCATION:The Coffee Shop 21 W. Grand Ave. Fox Lake IL 60020
UID:e.2066.5225
SEQUENCE:3
DTSTAMP:20260419T155706Z
URL:https://dev.chainolakeschamber.com/events/details/the-coffee-shop-grand-opening-ribbon-cutting-mixer-5225
END:VEVENT

END:VCALENDAR
