BEGIN:VCALENDAR
VERSION:2.0
PRODID:-//ChamberMaster//Event Calendar 2.0//EN
METHOD:PUBLISH
X-PUBLISHED-TTL:P3D
REFRESH-INTERVAL:P3D
CALSCALE:GREGORIAN
BEGIN:VEVENT
DTSTART:20230708T200000Z
DTEND:20230708T230000Z
X-MICROSOFT-CDO-ALLDAYEVENT:FALSE
SUMMARY:The Boat House Shake the Lake
DESCRIPTION:Are you ready to Shake the Lake?! The Chain O' Lakes third annual boat-in music festival on Pistakee Lake returns July 7-9\, 2023 presented by The Boat House!\n\nDedicated to bringing boaters all throughout the Chain\, Upper\, & Lower together over their shared passion for music\, community\, and boating. All in support of keeping our waterways clean!\n\nAttending boaters will tie up and drop anchor to enjoy 3 days of live music featuring the hottest local bands playing everyone's favorite rock\, country\, and today's hits. With professional staging\, sound\, and lighting\, Shake the Lake 2023 is shaping up to be the best one yet!!\n\nThe Cause:\n\nThe event is entirely free to attend\, however\, we are collecting donations for the Fox Waterway Agency that are responsible for keeping our waterways clean for all of us to enjoy! Donate: https://gofund.me/f24e10bc\n\nGet Involved:\n\nWe are looking for local sponsorships to help us make this community focused non-for-profit fundraiser the best it can be! If you're interested please reach out for more information on how your business can get involved in this community event! Contact:\n\nLauren Sass\, Marketing Coordinator: lauren.sass@boathouseh2o.com\n\n(815) 788-1111 x 1214\n\nPlease feel free to send us a message with any questions! We can't wait for another year of rocking out with you all on the water!
X-ALT-DESC;FMTTYPE=text/html:<div class="xdj266r x11i5rnm xat24cr x1mh8g0r x1vvkbs" style="margin: 0px\; overflow-wrap: break-word\; font-family: &quot\;Segoe UI Historic&quot\;\, &quot\;Segoe UI&quot\;\, Helvetica\, Arial\, sans-serif\; color: rgb(5\, 5\, 5)\; font-size: 15px\;">Are you ready to Shake the Lake?! The Chain O&#39\; Lakes third annual boat-in music festival on Pistakee Lake returns July 7-9\, 2023 presented by The Boat House!</div>\n\n<div class="x11i5rnm xat24cr x1mh8g0r x1vvkbs xtlvy1s" style="margin: 0.5em 0px 0px\; overflow-wrap: break-word\; font-family: &quot\;Segoe UI Historic&quot\;\, &quot\;Segoe UI&quot\;\, Helvetica\, Arial\, sans-serif\; color: rgb(5\, 5\, 5)\; font-size: 15px\;">Dedicated to bringing boaters all throughout the Chain\, Upper\, &amp\; Lower together over their shared passion for music\, community\, and boating. All in support of keeping our waterways clean!</div>\n\n<div class="x11i5rnm xat24cr x1mh8g0r x1vvkbs xtlvy1s" style="margin: 0.5em 0px 0px\; overflow-wrap: break-word\; font-family: &quot\;Segoe UI Historic&quot\;\, &quot\;Segoe UI&quot\;\, Helvetica\, Arial\, sans-serif\; color: rgb(5\, 5\, 5)\; font-size: 15px\;">Attending boaters will tie up and drop anchor to enjoy 3 days of live music featuring the hottest local bands playing everyone&rsquo\;s favorite rock\, country\, and today&#39\;s hits. With professional staging\, sound\, and lighting\, Shake the Lake 2023 is shaping up to be the best one yet!!</div>\n\n<div class="x11i5rnm xat24cr x1mh8g0r x1vvkbs xtlvy1s" style="margin: 0.5em 0px 0px\; overflow-wrap: break-word\; font-family: &quot\;Segoe UI Historic&quot\;\, &quot\;Segoe UI&quot\;\, Helvetica\, Arial\, sans-serif\; color: rgb(5\, 5\, 5)\; font-size: 15px\;">The Cause:<br />\nThe event is entirely free to attend\, however\, we are collecting donations for the Fox Waterway Agency that are responsible for keeping our waterways clean for all of us to enjoy! Donate:&nbsp\;<a class="x1i10hfl xjbqb8w x6umtig x1b1mbwd xaqea5y xav7gou x9f619 x1ypdohk xt0psk2 xe8uvvx xdj266r x11i5rnm xat24cr x1mh8g0r xexx8yu x4uap5 x18d9i69 xkhd6sd x16tdsg8 x1hl2dhg xggy1nq x1a2a7pz xt0b8zv x1fey0fg" href="https://gofund.me/f24e10bc?fbclid=IwAR1K8-XefoYgjcULO7HpkrDTx1Z7UbWpKPIspAIp0s2flWk32jmpeFvuQ4s" rel="nofollow noopener" role="link" style="color: var(--blue-link)\; cursor: pointer\; text-decoration-line: none\; border-width: 0px\; border-style: initial\; border-color: initial\; outline: none\; list-style: none\; margin: 0px\; text-align: inherit\; padding: 0px\; -webkit-tap-highlight-color: transparent\; box-sizing: border-box\; touch-action: manipulation\; background-color: transparent\; display: inline\; font-family: inherit\;" tabindex="0" target="_blank">https://gofund.me/f24e10bc</a></div>\n\n<div class="x11i5rnm xat24cr x1mh8g0r x1vvkbs xtlvy1s" style="margin: 0.5em 0px 0px\; overflow-wrap: break-word\; font-family: &quot\;Segoe UI Historic&quot\;\, &quot\;Segoe UI&quot\;\, Helvetica\, Arial\, sans-serif\; color: rgb(5\, 5\, 5)\; font-size: 15px\;">Get Involved:<br />\nWe are looking for local sponsorships to help us make this community focused non-for-profit fundraiser the best it can be! If you&#39\;re interested please reach out for more information on how your business can get involved in this community event! Contact:<br />\nLauren Sass\, Marketing Coordinator: lauren.sass@boathouseh2o.com<br />\n(815) 788-1111 x 1214</div>\n\n<div class="x11i5rnm xat24cr x1mh8g0r x1vvkbs xtlvy1s" style="margin: 0.5em 0px 0px\; overflow-wrap: break-word\; font-family: &quot\;Segoe UI Historic&quot\;\, &quot\;Segoe UI&quot\;\, Helvetica\, Arial\, sans-serif\; color: rgb(5\, 5\, 5)\; font-size: 15px\;">Please feel free to send us a message with any questions! We can&#39\;t wait for another year of rocking out with you all on the water!&nbsp\;</div>\n
LOCATION:The Boat House 515 Bald Knob Road Johnsburg IL 60051 or on the water!
UID:e.2066.5196
SEQUENCE:3
DTSTAMP:20260419T140431Z
URL:https://dev.chainolakeschamber.com/events/details/the-boat-house-shake-the-lake-07-08-2023-5196
END:VEVENT

END:VCALENDAR
