BEGIN:VCALENDAR
VERSION:2.0
PRODID:-//ChamberMaster//Event Calendar 2.0//EN
METHOD:PUBLISH
X-PUBLISHED-TTL:P3D
REFRESH-INTERVAL:P3D
CALSCALE:GREGORIAN
BEGIN:VEVENT
DTSTART:20210821T190000Z
DTEND:20210821T220000Z
X-MICROSOFT-CDO-ALLDAYEVENT:FALSE
SUMMARY:The Backdated Bank with Jay Goeppner
DESCRIPTION:Proceeds from this event support the animals rescued by Save- A Pet.\n\n \n\nSave-A-Pet is happy to present the Backdated Band with Jay Goeppner at Penny Road Pub on August 21\, 2021! \n\nAlong with hearing great music from the 60's and 70's\, you can also select meal choices from the below selection. There will also be a raffle with the chance to win some great prizes! Tickets for the raffle can be purchased the day of the event.\n\nThere will be indoor seating in front of the stage\, as well as an outdoor area to sing\, dance\, and eat! \n\nThere will be also be a cash bar with Save-A-Pet drink specials for $5 such as:\n\n\n\n  Pink Poodle (Vanilla vodka based)\n\n  Salty Chihuahua (Tequila based)\n\n  Moscow "Mew" (Ginger beer and vodka)\n\n  Spiked Kitty Cocktail\n\n\n\nOr order a Domestic draft beer for $2.\n\nFull service bar with many options\, priced accordingly.\n\n\n\nThe Backdated Band with Jay Goeppner
X-ALT-DESC;FMTTYPE=text/html:Proceeds from this event support the animals rescued by Save- A Pet.<br />\n&nbsp\;\n<div id="dnn_ctr2523551_ViewAESOPRegistration_rmodule_customTextIntroDiv" style="box-sizing: border-box\; margin: 0px\; padding: 0px\; border: 0px\; font-style: normal\; font-variant-ligatures: normal\; font-variant-caps: normal\; font-variant-numeric: inherit\; font-variant-east-asian: inherit\; font-weight: 400\; font-stretch: inherit\; font-size: 14px\; line-height: inherit\; font-family: Arial\, Verdana\, Helvetica\, sans-serif\; vertical-align: baseline\; color: rgb(51\, 51\, 51)\; letter-spacing: normal\; orphans: 2\; text-align: left\; text-indent: 0px\; text-transform: none\; white-space: normal\; widows: 2\; word-spacing: 0px\; -webkit-text-stroke-width: 0px\; background-color: rgb(255\, 255\, 255)\; text-decoration-thickness: initial\; text-decoration-style: initial\; text-decoration-color: initial\;">\n<p style="box-sizing: border-box\; margin: 0px 0px 10px\; padding: 0px\; border: 0px\; font-style: inherit\; font-variant: inherit\; font-weight: normal\; font-stretch: inherit\; font-size: 14px\; line-height: inherit\; font-family: Arial\, Verdana\, Helvetica\, sans-serif\; vertical-align: baseline\; text-align: center\;"><span style="box-sizing: border-box\; margin: 0px\; padding: 0px\; border: 0px\; font-style: inherit\; font-variant: inherit\; font-weight: inherit\; font-stretch: inherit\; font-size: 18px\; line-height: inherit\; font-family: Arial\; vertical-align: baseline\; color: rgb(0\, 0\, 0)\;">Save-A-Pet is happy to present the Backdated Band with Jay Goeppner at Penny Road Pub on August 21\, 2021!&nbsp\;</span></p>\n\n<p style="box-sizing: border-box\; margin: 0px 0px 10px\; padding: 0px\; border: 0px\; font-style: inherit\; font-variant: inherit\; font-weight: normal\; font-stretch: inherit\; font-size: 14px\; line-height: inherit\; font-family: Arial\, Verdana\, Helvetica\, sans-serif\; vertical-align: baseline\; text-align: center\;"><span style="box-sizing: border-box\; margin: 0px\; padding: 0px\; border: 0px\; font-style: inherit\; font-variant: inherit\; font-weight: inherit\; font-stretch: inherit\; font-size: 18px\; line-height: inherit\; font-family: Arial\; vertical-align: baseline\; color: rgb(0\, 0\, 0)\;">Along with hearing great music from the 60&#39\;s and 70&#39\;s\, you can also select meal choices from the below selection. There will also be a raffle with the chance to win some great prizes! Tickets for the raffle can be purchased the day of the event.</span></p>\n\n<p style="box-sizing: border-box\; margin: 0px 0px 10px\; padding: 0px\; border: 0px\; font-style: inherit\; font-variant: inherit\; font-weight: normal\; font-stretch: inherit\; font-size: 14px\; line-height: inherit\; font-family: Arial\, Verdana\, Helvetica\, sans-serif\; vertical-align: baseline\; text-align: center\;"><span style="box-sizing: border-box\; margin: 0px\; padding: 0px\; border: 0px\; font-style: inherit\; font-variant: inherit\; font-weight: inherit\; font-stretch: inherit\; font-size: 18px\; line-height: inherit\; font-family: Arial\; vertical-align: baseline\; color: rgb(0\, 0\, 0)\;">There will be indoor seating in front of the stage\, as well as an outdoor area to sing\, dance\, and eat!&nbsp\;</span></p>\n\n<p style="box-sizing: border-box\; margin: 0px 0px 10px\; padding: 0px\; border: 0px\; font-style: inherit\; font-variant: inherit\; font-weight: normal\; font-stretch: inherit\; font-size: 14px\; line-height: inherit\; font-family: Arial\, Verdana\, Helvetica\, sans-serif\; vertical-align: baseline\; text-align: center\;"><span style="box-sizing: border-box\; margin: 0px\; padding: 0px\; border: 0px\; font-style: inherit\; font-variant: inherit\; font-weight: inherit\; font-stretch: inherit\; font-size: 18px\; line-height: inherit\; font-family: Arial\; vertical-align: baseline\; color: rgb(0\, 0\, 0)\;">There will be also be a cash bar with Save-A-Pet drink specials for $5 such as:<br style="box-sizing: border-box\;" />\n<br style="box-sizing: border-box\;" />\n&bull\; Pink Poodle (Vanilla vodka based)<br style="box-sizing: border-box\;" />\n&bull\; Salty Chihuahua (Tequila based)<br style="box-sizing: border-box\;" />\n&bull\; Moscow &quot\;Mew&quot\; (Ginger beer and vodka)<br style="box-sizing: border-box\;" />\n&bull\; Spiked Kitty Cocktail<br style="box-sizing: border-box\;" />\n<br style="box-sizing: border-box\;" />\nOr order a Domestic draft beer for $2.<br style="box-sizing: border-box\;" />\nFull service bar with many options\, priced accordingly.</span></p>\n</div>\n\n<div class="formTitleContainer" id="dnn_ctr2523551_ViewAESOPRegistration_rmodule_formTitleDiv" style="box-sizing: border-box\; margin: 0px\; padding: 0px\; border: 0px\; font-style: normal\; font-variant-ligatures: normal\; font-variant-caps: normal\; font-variant-numeric: inherit\; font-variant-east-asian: inherit\; font-weight: 400\; font-stretch: inherit\; font-size: 14px\; line-height: inherit\; font-family: Arial\, Verdana\, Helvetica\, sans-serif\; vertical-align: baseline\; text-align: center\; color: rgb(51\, 51\, 51)\; letter-spacing: normal\; orphans: 2\; text-indent: 0px\; text-transform: none\; white-space: normal\; widows: 2\; word-spacing: 0px\; -webkit-text-stroke-width: 0px\; background-color: rgb(255\, 255\, 255)\; text-decoration-thickness: initial\; text-decoration-style: initial\; text-decoration-color: initial\;">\n<h1 style="box-sizing: border-box\; margin: 20px 0px 10px\; padding: 0px\; border: 0px\; font-style: inherit\; font-variant: inherit\; font-weight: 700\; font-stretch: inherit\; font-size: 24px\; line-height: 40px\; font-family: inherit\; vertical-align: baseline\; display: block\; color: inherit\; letter-spacing: normal\; text-transform: none\;"><span id="dnn_ctr2523551_ViewAESOPRegistration_rmodule_formTitleLabel" style="box-sizing: border-box\; margin: 0px\; padding: 0px\; border: 0px\; font: inherit\; vertical-align: baseline\;">The Backdated Band with Jay Goeppner</span></h1>\n</div>\n
LOCATION:Penny Road Pub 545 Penny Road Barrington\, IL
UID:e.2066.4113
SEQUENCE:3
DTSTAMP:20260423T100052Z
URL:https://dev.chainolakeschamber.com/events/details/the-backdated-bank-with-jay-goeppner-4113
END:VEVENT

END:VCALENDAR
