BEGIN:VCALENDAR
VERSION:2.0
PRODID:-//ChamberMaster//Event Calendar 2.0//EN
METHOD:PUBLISH
X-PUBLISHED-TTL:P3D
REFRESH-INTERVAL:P3D
CALSCALE:GREGORIAN
BEGIN:VEVENT
DTSTART:20230729T200000Z
DTEND:20230729T220000Z
X-MICROSOFT-CDO-ALLDAYEVENT:FALSE
SUMMARY:Tequila Tasting & Seminar with Int'l House of Wine & Cheese
DESCRIPTION:Join us for a Tequila Tasting & Seminar!\n\nCome join us for a seminar led by Will Torres from CNI Brands. We will serve a couple of cocktails\, a Mezcal Old Fashioned and a Libelula Tequila Margarita either flavored with Combire Watermelon\, Combier Pamplemousse Rose\, or the traditional version. A seminar with five different Banhez Mexcals will follow. Everything that is tasted will be available for purchase.
X-ALT-DESC;FMTTYPE=text/html:<span style="color: rgb(5\, 5\, 5)\; font-family: &quot\;Segoe UI Historic&quot\;\, &quot\;Segoe UI&quot\;\, Helvetica\, Arial\, sans-serif\; font-size: 15px\;">Join us for a Tequila Tasting &amp\; Seminar!</span><br style="color: rgb(5\, 5\, 5)\; font-family: &quot\;Segoe UI Historic&quot\;\, &quot\;Segoe UI&quot\;\, Helvetica\, Arial\, sans-serif\; font-size: 15px\;" />\n<span style="color: rgb(5\, 5\, 5)\; font-family: &quot\;Segoe UI Historic&quot\;\, &quot\;Segoe UI&quot\;\, Helvetica\, Arial\, sans-serif\; font-size: 15px\;">Come join us for a seminar led by Will Torres from CNI Brands. We will serve a couple of cocktails\, a Mezcal Old Fashioned and a Libelula Tequila Margarita either flavored with Combire Watermelon\, Combier Pamplemousse Rose\, or the traditional version. A seminar with five different Banhez Mexcals will follow. Everything that is tasted will be available for purchase.</span>
LOCATION:International House of Wine & Cheese 11302 Route 12 Richmond\, IL 60071
UID:e.2066.5276
SEQUENCE:3
DTSTAMP:20260419T155544Z
URL:https://dev.chainolakeschamber.com/events/details/tequila-tasting-seminar-with-int-l-house-of-wine-cheese-5276
END:VEVENT

END:VCALENDAR
