BEGIN:VCALENDAR
VERSION:2.0
PRODID:-//ChamberMaster//Event Calendar 2.0//EN
METHOD:PUBLISH
X-PUBLISHED-TTL:P3D
REFRESH-INTERVAL:P3D
CALSCALE:GREGORIAN
BEGIN:VEVENT
DTSTART:20221116T173000Z
DTEND:20221116T180000Z
X-MICROSOFT-CDO-ALLDAYEVENT:FALSE
SUMMARY:Tech Talk: IT Purchase & Your Taxes
DESCRIPTION:Don't miss our next Tech Talk on Wednesday\, November 16th\, at 11:30 am! We'll be sitting down with a CPA from Eder\, Casella & Co. to talk about year-end IT purchases and how they could impact your tax situation.\n\n \n\n\nRegister today to receive the webinar link and add it to your calendar. Even if you have a conflict\, register to receive the recording to watch on your own time. See you there!\n\nhttps://us02web.zoom.us/meeting/register/tZwude6gpjwrG9Ys4yA-SqSH2Syx6p6AUWww
X-ALT-DESC;FMTTYPE=text/html:<div>\n<div>\n<div>Don&#39\;t miss our next Tech Talk on Wednesday\, November 16th\, at 11:30 am! We&#39\;ll be sitting down with a CPA from&nbsp\;<span style="font-family:inherit"><a class="x1i10hfl xjbqb8w x6umtig x1b1mbwd xaqea5y xav7gou x9f619 x1ypdohk xt0psk2 xe8uvvx xdj266r x11i5rnm xat24cr x1mh8g0r xexx8yu x4uap5 x18d9i69 xkhd6sd x16tdsg8 x1hl2dhg xggy1nq x1a2a7pz xt0b8zv x1qq9wsj xo1l8bm" href="https://www.facebook.com/EderCasellaCo/?__cft__[0]=AZXDvro3DhBd0aNejq1_wuiJLBYIsTlroQr3hGYApTX5aZuHGs6TgAHtWd-8aaoxvKVQGqB5M7vgYo4IZtfvbjCN_P3QKYzSfkwSL3x-Sw3ZIA0EPzUC9w0WpHi5Vs2F3lyNEydoX4neDoaImGQG-jZjICmSKKCfpm74U5LueJEIFgqyKvOLJ22btJohObQxssKNRSL2hoIjvalaLxBM8uKI&amp\;__tn__=kK-R" style="color: var(--accent)\; cursor: pointer\; text-decoration-line: none\; outline: none\; list-style: none\; border-width: 0px\; border-style: initial\; border-color: initial\; margin: 0px\; text-align: inherit\; padding: 0px\; -webkit-tap-highlight-color: transparent\; box-sizing: border-box\; touch-action: manipulation\; background-color: transparent\; display: inline\; font-family: inherit\;" tabindex="0"><span style="font-family:inherit">Eder\, Casella &amp\; Co.</span></a></span>&nbsp\;to talk about year-end IT purchases and how they could impact your tax situation.<br />\n&nbsp\;</div>\n</div>\n\n<div>Register today to receive the webinar link and add it to your calendar. Even if you have a conflict\, register to receive the recording to watch on your own time. See you there!</div>\n</div>\n<a href="https://us02web.zoom.us/meeting/register/tZwude6gpjwrG9Ys4yA-SqSH2Syx6p6AUWww">https://us02web.zoom.us/meeting/register/tZwude6gpjwrG9Ys4yA-SqSH2Syx6p6AUWww</a><br />\n&nbsp\;
LOCATION:Register for the webinar link: https://us02web.zoom.us/meeting/register/tZwude6gpjwrG9Ys4yA-SqSH2Syx6p6AUWww
UID:e.2066.4874
SEQUENCE:3
DTSTAMP:20260422T090844Z
URL:https://dev.chainolakeschamber.com/events/details/tech-talk-it-purchase-your-taxes-4874
END:VEVENT

END:VCALENDAR
