BEGIN:VCALENDAR
VERSION:2.0
PRODID:-//ChamberMaster//Event Calendar 2.0//EN
METHOD:PUBLISH
X-PUBLISHED-TTL:P3D
REFRESH-INTERVAL:P3D
CALSCALE:GREGORIAN
BEGIN:VEVENT
DTSTART:20220713T183000Z
DTEND:20220713T193000Z
X-MICROSOFT-CDO-ALLDAYEVENT:FALSE
SUMMARY:Tech Help Series: Free Computer Applications and Programs
DESCRIPTION:Presented by: Judy and Michael Yublosky\, SAGESofBG a div. of A-BnC Parties and More\, Inc.\n\n\n\nJudy and Michael will introduce you to and demonstrate some of their favorite FREE tools you can find on the internet or on your computer. \n\nWe'll look at and explain how to use:\n\n	\n		\n			\n			\n				Word processors\n				Productivity suite\n				Basic Photo editing program\n				Basic Photo organizing program\n				Screen capture applications\n			\n			\n			\n			\n				Video and slide show program\n				Video capture program\n				Audio capture program\n				and more (if time permits)\n				Mainly Windows 10 based\, many have Apple versions
X-ALT-DESC;FMTTYPE=text/html:<span style="color:black"><span style="font-family:arial\,sans-serif"><span style="font-size:14.0pt">Presented by: </span></span></span><span style="font-size:14.0pt">Judy and Michael Yublosky\, SAGESofBG a div. of A-BnC Parties and More\, Inc.</span><br />\n<br />\n<strong><span style="font-family:arial\,sans-serif"><span style="font-size:14.0pt">Judy and Michael will introduce you to and demonstrate some of their favorite FREE tools you can find on the internet or on your computer. </span></span></strong><br />\n<span style="font-size:14.0pt">We&#39\;ll look at and explain how to use:</span>\n<table border="0" cellpadding="0" cellspacing="0" style="border-collapse:collapse\; border:none\; margin-left:5.55pt">\n	<tbody>\n		<tr>\n			<td style="height:177px\; vertical-align:top\; width:349px">\n			<ul>\n				<li><span style="font-size:14.0pt">Word processors</span></li>\n				<li><span style="font-size:14.0pt">Productivity suite</span></li>\n				<li><span style="font-size:14.0pt">Basic Photo editing program</span></li>\n				<li><span style="font-size:14.0pt">Basic Photo organizing program</span></li>\n				<li><span style="font-size:14.0pt">Screen capture applications</span></li>\n			</ul>\n			</td>\n			<td style="height:177px\; vertical-align:top\; width:347px">\n			<ul>\n				<li><span style="font-size:14.0pt">Video and slide show program</span></li>\n				<li><span style="font-size:14.0pt">Video capture program</span></li>\n				<li><span style="font-size:14.0pt">Audio capture program</span></li>\n				<li><span style="font-size:14.0pt">and more (if time permits)</span></li>\n				<li><span style="font-size:14.0pt">Mainly Windows 10 based\, many have Apple versions</span></li>\n			</ul>\n			</td>\n		</tr>\n	</tbody>\n</table>\n
LOCATION:Zoom Click Here to Register
UID:e.2066.4541
SEQUENCE:3
DTSTAMP:20260422T154526Z
URL:https://dev.chainolakeschamber.com/events/details/tech-help-series-free-computer-applications-and-programs-4541
END:VEVENT

END:VCALENDAR
