BEGIN:VCALENDAR
VERSION:2.0
PRODID:-//ChamberMaster//Event Calendar 2.0//EN
METHOD:PUBLISH
X-PUBLISHED-TTL:P3D
REFRESH-INTERVAL:P3D
CALSCALE:GREGORIAN
BEGIN:VEVENT
DTSTART:20230829T220000Z
DTEND:20230830T000000Z
X-MICROSOFT-CDO-ALLDAYEVENT:FALSE
SUMMARY:Tammy's Pizza 28th Anniversary Ribbon Cutting & Mixer
DESCRIPTION:Join us to celebrate the 28th Anniversary of Tammy's Pizza in Spring Grove with a Ribbon Cutting and Mixer!
X-ALT-DESC;FMTTYPE=text/html:Join us to celebrate the 28th Anniversary of Tammy&#39\;s Pizza in Spring Grove with a Ribbon Cutting and Mixer!
LOCATION:Tammy's Pizza 6817 State Park Rd Spring Grove IL 60081
UID:e.2066.5397
SEQUENCE:3
DTSTAMP:20260419T121416Z
URL:https://dev.chainolakeschamber.com/events/details/tammy-s-pizza-28th-anniversary-ribbon-cutting-mixer-5397
END:VEVENT

END:VCALENDAR
