BEGIN:VCALENDAR
VERSION:2.0
PRODID:-//ChamberMaster//Event Calendar 2.0//EN
METHOD:PUBLISH
X-PUBLISHED-TTL:P3D
REFRESH-INTERVAL:P3D
CALSCALE:GREGORIAN
BEGIN:VEVENT
DTSTART:20210726T220000Z
DTEND:20210727T000000Z
X-MICROSOFT-CDO-ALLDAYEVENT:FALSE
SUMMARY:Talent Management
DESCRIPTION:Talent Management is a crucial investment for any organization. Learn how developing your employees and retaining a skilled workforce is the key to your success.
X-ALT-DESC;FMTTYPE=text/html:Talent Management is a crucial investment for any organization. Learn how developing your employees and retaining a skilled workforce is the key to your success.
LOCATION:Live Zoom
UID:e.2066.4079
SEQUENCE:3
DTSTAMP:20260423T111654Z
URL:https://dev.chainolakeschamber.com/events/details/talent-management-4079
END:VEVENT

END:VCALENDAR
