BEGIN:VCALENDAR
VERSION:2.0
PRODID:-//ChamberMaster//Event Calendar 2.0//EN
METHOD:PUBLISH
X-PUBLISHED-TTL:P3D
REFRESH-INTERVAL:P3D
CALSCALE:GREGORIAN
BEGIN:VEVENT
DTSTART:20211021T180000Z
DTEND:20211021T220000Z
X-MICROSOFT-CDO-ALLDAYEVENT:FALSE
SUMMARY:Talent Acquisition Toolkit - Best Practices for Interviewing and Hiring
DESCRIPTION:A bad hire costs 5x to 27x the person's annual salary. Save time\, money\, resources and more by ensuring hiring managers get it right the first time\, every time. Mis-hiring can be a very costly mistake\, adding up in wasted time\, money\, and energy that saps the goodwill and engagement of everyone involved. The old adage "be slow to hire" has never been truer\, given today's highly competitive labor market and the current "war for talent". There is a lot to know when it comes to finding and hiring great people. From candidate searches to interviewing and job offers\, much is at stake. Getting the right "fit" for a job\, team and organization means being knowledgeable and well prepared is crucial for all hiring managers. It goes well beyond a job posting or "gut instinct" about a candidate.
X-ALT-DESC;FMTTYPE=text/html:A bad hire costs 5x to 27x the person&#39\;s annual salary. Save time\, money\, resources and more by ensuring hiring managers get it right the first time\, every time. Mis-hiring can be a very costly mistake\, adding up in wasted time\, money\, and energy that saps the goodwill and engagement of everyone involved. The old adage &quot\;be slow to hire&quot\; has never been truer\, given today&#39\;s highly competitive labor market and the current &quot\;war for talent&quot\;. There is a lot to know when it comes to finding and hiring great people. From candidate searches to interviewing and job offers\, much is at stake. Getting the right &quot\;fit&quot\; for a job\, team and organization means being knowledgeable and well prepared is crucial for all hiring managers. It goes well beyond a job posting or &quot\;gut instinct&quot\; about a candidate.
LOCATION:Live Zoom
UID:e.2066.4141
SEQUENCE:3
DTSTAMP:20260423T065608Z
URL:https://dev.chainolakeschamber.com/events/details/talent-acquisition-toolkit-best-practices-for-interviewing-and-hiring-4141
END:VEVENT

END:VCALENDAR
