BEGIN:VCALENDAR
VERSION:2.0
PRODID:-//ChamberMaster//Event Calendar 2.0//EN
METHOD:PUBLISH
X-PUBLISHED-TTL:P3D
REFRESH-INTERVAL:P3D
CALSCALE:GREGORIAN
BEGIN:VEVENT
DTSTART:20210812T143000Z
DTEND:20210812T153000Z
X-MICROSOFT-CDO-ALLDAYEVENT:FALSE
SUMMARY:Taking the Mystery Out of Business Insurance
DESCRIPTION:Are you frustrated with understanding your current business insurance coverage? Do you need business insurance but aren't sure where to start? Join Anna Maria Viti-Welch\, President of The VITI Companies for an educational\, easy-to-understand workshop. Get the facts on basic and optional coverage\, what you need\, what you don't\, and more. Bring your questions!
X-ALT-DESC;FMTTYPE=text/html:Are you frustrated with understanding your current business insurance coverage? Do you need business insurance but aren&#39\;t sure where to start? Join Anna Maria Viti-Welch\, President of The VITI Companies for an educational\, easy-to-understand workshop. Get the facts on basic and optional coverage\, what you need\, what you don&#39\;t\, and more. Bring your questions!
LOCATION:Live Zoom
UID:e.2066.4101
SEQUENCE:3
DTSTAMP:20260423T100658Z
URL:https://dev.chainolakeschamber.com/events/details/taking-the-mystery-out-of-business-insurance-4101
END:VEVENT

END:VCALENDAR
