BEGIN:VCALENDAR
VERSION:2.0
PRODID:-//ChamberMaster//Event Calendar 2.0//EN
METHOD:PUBLISH
X-PUBLISHED-TTL:P3D
REFRESH-INTERVAL:P3D
CALSCALE:GREGORIAN
BEGIN:VEVENT
DTSTART:20230218T223000Z
DTEND:20230219T020000Z
X-MICROSOFT-CDO-ALLDAYEVENT:FALSE
SUMMARY:Sweetheart Dance (Mother/Son\, Daddy/Daughter)
DESCRIPTION:Come dance the night away at the Mother-Son\, Daddy-Daughter. This year's country-themed dance!
X-ALT-DESC;FMTTYPE=text/html:<span style="color: rgb(5\, 5\, 5)\; font-family: Calibri\, Helvetica\, Arial\, sans-serif\; font-size: 14px\;">Come dance the night away at the Mother-Son\, Daddy-Daughter. This year&#39\;s country-themed dance!</span>
LOCATION:Lakefront Park Building 71 Nippersink Blvd. Fox Lake\, IL 60020.
UID:e.2066.4934
SEQUENCE:3
DTSTAMP:20260420T002152Z
URL:https://dev.chainolakeschamber.com/events/details/sweetheart-dance-mother-son-daddy-daughter-4934
END:VEVENT

END:VCALENDAR
